BEGIN:VCALENDAR
VERSION:2.0
PRODID:-//Giant Jones Brewing Company - ECPv6.15.12.2//NONSGML v1.0//EN
CALSCALE:GREGORIAN
METHOD:PUBLISH
X-WR-CALNAME:Giant Jones Brewing Company
X-ORIGINAL-URL:https://giantjones.com
X-WR-CALDESC:Events for Giant Jones Brewing Company
REFRESH-INTERVAL;VALUE=DURATION:PT1H
X-Robots-Tag:noindex
X-PUBLISHED-TTL:PT1H
BEGIN:VTIMEZONE
TZID:UTC
BEGIN:STANDARD
TZOFFSETFROM:+0000
TZOFFSETTO:+0000
TZNAME:UTC
DTSTART:20240101T000000
END:STANDARD
END:VTIMEZONE
BEGIN:VEVENT
DTSTART;TZID=UTC:20250208T120000
DTEND;TZID=UTC:20250208T170000
DTSTAMP:20260421T145745
CREATED:20250120T184334Z
LAST-MODIFIED:20250120T184618Z
UID:6352-1739016000-1739034000@giantjones.com
SUMMARY:Annual Madison Makers Winter Market & Pub Crawl
DESCRIPTION:Nothing says “I Love You” like handmade gifts\, and nothing beats shopping local!\n\nThe Madison Makers Winter Market & Pub-Crawl is takes place from Noon to 5pm.\n\nThis event has a variety of local and regional area makers assembled in our tasting room and at these other locations:\nSTATE LINE DISTILLERYIMAGINARY FACTORYWORKING DRAFT BEEROLD SUGAR DISTILLERYTHE DELICIOUSERVINTAGE BREWING COHOTEL INDIGO\n\nThis is a family friendly event\, with shopping for the entire family!\n\nFind gifts within the handmade community and meet the makers who create what you take home.\nThis event is free and no tickets are needed to come and enjoy the fun! You only pay for the items you want to buy from vendors\, and the drinks or food you want to enjoy.\n\nWe will be hosting the following vendors:\n\nCheeky Ceramics – Pottery/Ceramics\nHijinx Mixed Media – Art/Prints\, Apparel\, Fiber Art\, Stickers\nNautical Sorbet – Art/Prints\, Accessories\, Apparel\, Decor\, Stickers\nWild Born Creations – Accessories\, Apparel\, Cross Stitch/Embroidery\, Jewelry\nSpooky Treasure Crafts – Decor\, Home Goods\, Jewelry\nARTWORKING – Art/Prints\, Accessories\n\n\nOur tasting room will remain open after the market is over\, until 9pm!
URL:https://giantjones.com/event/annual-madison-makers-winter-market-pub-crawl/
LOCATION:Giant Jones Brewing Company\, 931 E Main St.\, Madison\, WI\, 53703\, United States
END:VEVENT
END:VCALENDAR