BEGIN:VCALENDAR
VERSION:2.0
PRODID:-//Giant Jones Brewing Company - ECPv6.15.12.2//NONSGML v1.0//EN
CALSCALE:GREGORIAN
METHOD:PUBLISH
X-ORIGINAL-URL:https://giantjones.com
X-WR-CALDESC:Events for Giant Jones Brewing Company
REFRESH-INTERVAL;VALUE=DURATION:PT1H
X-Robots-Tag:noindex
X-PUBLISHED-TTL:PT1H
BEGIN:VTIMEZONE
TZID:UTC
BEGIN:STANDARD
TZOFFSETFROM:+0000
TZOFFSETTO:+0000
TZNAME:UTC
DTSTART:20240101T000000
END:STANDARD
END:VTIMEZONE
BEGIN:VEVENT
DTSTART;TZID=UTC:20251128T120000
DTEND;TZID=UTC:20251128T180000
DTSTAMP:20260420T163115
CREATED:20251029T221021Z
LAST-MODIFIED:20251029T221021Z
UID:7246-1764331200-1764352800@giantjones.com
SUMMARY:*Closing Early at 6pm*
DESCRIPTION:Our Tasting Room is open 12pm-6pm.
URL:https://giantjones.com/event/closing-early-at-6pm/
END:VEVENT
END:VCALENDAR