BEGIN:VCALENDAR
VERSION:2.0
PRODID:-//Giant Jones Brewing Company - ECPv6.15.12.2//NONSGML v1.0//EN
CALSCALE:GREGORIAN
METHOD:PUBLISH
X-WR-CALNAME:Giant Jones Brewing Company
X-ORIGINAL-URL:https://giantjones.com
X-WR-CALDESC:Events for Giant Jones Brewing Company
REFRESH-INTERVAL;VALUE=DURATION:PT1H
X-Robots-Tag:noindex
X-PUBLISHED-TTL:PT1H
BEGIN:VTIMEZONE
TZID:UTC
BEGIN:STANDARD
TZOFFSETFROM:+0000
TZOFFSETTO:+0000
TZNAME:UTC
DTSTART:20240101T000000
END:STANDARD
END:VTIMEZONE
BEGIN:VEVENT
DTSTART;TZID=UTC:20251204T170000
DTEND;TZID=UTC:20251204T200000
DTSTAMP:20260420T151728
CREATED:20251201T202118Z
LAST-MODIFIED:20251201T202118Z
UID:7355-1764867600-1764878400@giantjones.com
SUMMARY:Tone Madison Compilation Listening Party at GJ
DESCRIPTION:Our friends from Tone Madison will be here sharing their latest musical finds from Madison! Enjoy some new music\, discover new artists AND have a GJ beer while you’re at it. \nCome hear Tone Madison’s latest compilation of Madison area musicians before it’s released on Bandcamp.
URL:https://giantjones.com/event/tone-madison-compilation-listening-party-at-gj/
LOCATION:Giant Jones Brewing Company\, 931 E Main St.\, Madison\, WI\, 53703\, United States
END:VEVENT
END:VCALENDAR