BEGIN:VCALENDAR
VERSION:2.0
PRODID:-//Giant Jones Brewing Company - ECPv6.15.12.2//NONSGML v1.0//EN
CALSCALE:GREGORIAN
METHOD:PUBLISH
X-WR-CALNAME:Giant Jones Brewing Company
X-ORIGINAL-URL:https://giantjones.com
X-WR-CALDESC:Events for Giant Jones Brewing Company
REFRESH-INTERVAL;VALUE=DURATION:PT1H
X-Robots-Tag:noindex
X-PUBLISHED-TTL:PT1H
BEGIN:VTIMEZONE
TZID:UTC
BEGIN:STANDARD
TZOFFSETFROM:+0000
TZOFFSETTO:+0000
TZNAME:UTC
DTSTART:20230101T000000
END:STANDARD
END:VTIMEZONE
BEGIN:VEVENT
DTSTART;TZID=UTC:20240317T113000
DTEND;TZID=UTC:20240317T143000
DTSTAMP:20260421T170927
CREATED:20240313T192407Z
LAST-MODIFIED:20240313T192407Z
UID:5172-1710675000-1710685800@giantjones.com
SUMMARY:Corned Beef & Cabbage Lunch Pop-Up
DESCRIPTION:  \nOur friends from Slide Gourmet Catering will be here dishing up this St. Patrick’s Day favorite; Corned Beef & Cabbage!\nPre-order your lunch OR order when you get here. You can dine here with some beer or take home (with some bottled beer)!\nLunch includes:\nCorned Beef\, Cabbage\, Carrots\, Potatoes & Rye Bread for $19\nPre-Order link below!
URL:https://giantjones.com/event/corned-beef-cabbage-lunch-pop-up/
LOCATION:Giant Jones Brewing Company\, 931 E Main St.\, Madison\, WI\, 53703\, United States
END:VEVENT
END:VCALENDAR