BEGIN:VCALENDAR
VERSION:2.0
PRODID:-//Giant Jones Brewing Company - ECPv6.15.12.2//NONSGML v1.0//EN
CALSCALE:GREGORIAN
METHOD:PUBLISH
X-ORIGINAL-URL:https://giantjones.com
X-WR-CALDESC:Events for Giant Jones Brewing Company
REFRESH-INTERVAL;VALUE=DURATION:PT1H
X-Robots-Tag:noindex
X-PUBLISHED-TTL:PT1H
BEGIN:VTIMEZONE
TZID:UTC
BEGIN:STANDARD
TZOFFSETFROM:+0000
TZOFFSETTO:+0000
TZNAME:UTC
DTSTART:20230101T000000
END:STANDARD
END:VTIMEZONE
BEGIN:VEVENT
DTSTART;TZID=UTC:20240518T120000
DTEND;TZID=UTC:20240518T170000
DTSTAMP:20260422T030257
CREATED:20240430T181431Z
LAST-MODIFIED:20240430T223442Z
UID:5405-1716033600-1716051600@giantjones.com
SUMMARY:Spring Makers Market & Pub Crawl
DESCRIPTION:  \nIt’s that time of year for another great Spring Maker’s Market! \nShop over 90 makers with a drink in hand\, while exploring some of Madison’s local area breweries\, distilleries and bars!\nThis is an ALL AGES\, family friendly event.\nThis event is free and no tickets are needed to come and enjoy the fun! You only pay for the items you want to buy from vendors\, and the drinks or food you want to consume.\nIf you are 21 or older and choose to drink\, please drink responsibly. Also\, please do not consume alcohol on the street in between locations. \nThis time around we will be hosting: \nKirby.cst – Art/Prints\, Jewelry\, Stickers \nA Brush Box / A Brush of Amber – Art/Prints\, Children’s Goods/Toys \nAfter While\, Craftodile – Accessories\, Decor\, Jewelry\, Metalwork\, Spiritual Needs \nBlack Crane Studio (formerly bossassstiches) (@blackcranestudio) – Art/Prints\, Fiber Art\, Printmakers \nMarket is 12pm-5pm; tasting room is open until 9pm!
URL:https://giantjones.com/event/spring-makers-market-pub-crawl/
LOCATION:Giant Jones Brewing Company\, 931 E Main St.\, Madison\, WI\, 53703\, United States
END:VEVENT
END:VCALENDAR