BEGIN:VCALENDAR
VERSION:2.0
PRODID:-//Giant Jones Brewing Company - ECPv6.15.12.2//NONSGML v1.0//EN
CALSCALE:GREGORIAN
METHOD:PUBLISH
X-ORIGINAL-URL:https://giantjones.com
X-WR-CALDESC:Events for Giant Jones Brewing Company
REFRESH-INTERVAL;VALUE=DURATION:PT1H
X-Robots-Tag:noindex
X-PUBLISHED-TTL:PT1H
BEGIN:VTIMEZONE
TZID:UTC
BEGIN:STANDARD
TZOFFSETFROM:+0000
TZOFFSETTO:+0000
TZNAME:UTC
DTSTART:20230101T000000
END:STANDARD
END:VTIMEZONE
BEGIN:VEVENT
DTSTART;TZID=UTC:20240620T170000
DTEND;TZID=UTC:20240620T190000
DTSTAMP:20260422T090840
CREATED:20240516T194650Z
LAST-MODIFIED:20240516T194650Z
UID:5467-1718902800-1718910000@giantjones.com
SUMMARY:In-Person Social Happy Hour with OPEN
DESCRIPTION:Details\n\n\nJoin us for drinks and conversation with Out Professional Engagement Network\, OPEN\, here at Giant Jones! This event is open to all genders. \n\nAbout\nSchedule\nTransportation\nAccessibility / Inclusion\nCode of Conduct\n\n*** \nSCHEDULE \nFeel free to arrive anytime after 5:00. Be sure to find one of us to snag a name tag. \n  \nACCESSIBILITY / INCLUSION \nAll genders are welcome at this event. Adults must be 21+ (and have ID!). \nLocation is wheelchair accessible. \nIf you have another accessibility concern\, we encourage you to reach out directly to Sara at admin@madisonwomen.tech. \nCODE OF CONDUCT \nWhile this event is open to all genders\, Madison Women in Tech deliberately curates spaces for and by women and nonbinary folks. Men who attend are expected to listen\, and not center themselves or their experiences. \nAll attendees agree to adhere to the Madison Women in Tech code of conduct: http://coc.madisonwomen.tech \n\n\n\n\n\n\n\n  \n 
URL:https://giantjones.com/event/in-person-social-happy-hour-with-open/
LOCATION:Giant Jones Brewing Company\, 931 E Main St.\, Madison\, WI\, 53703\, United States
END:VEVENT
END:VCALENDAR