BEGIN:VCALENDAR
VERSION:2.0
PRODID:-//Giant Jones Brewing Company - ECPv6.15.12.2//NONSGML v1.0//EN
CALSCALE:GREGORIAN
METHOD:PUBLISH
X-WR-CALNAME:Giant Jones Brewing Company
X-ORIGINAL-URL:https://giantjones.com
X-WR-CALDESC:Events for Giant Jones Brewing Company
REFRESH-INTERVAL;VALUE=DURATION:PT1H
X-Robots-Tag:noindex
X-PUBLISHED-TTL:PT1H
BEGIN:VTIMEZONE
TZID:UTC
BEGIN:STANDARD
TZOFFSETFROM:+0000
TZOFFSETTO:+0000
TZNAME:UTC
DTSTART:20240101T000000
END:STANDARD
END:VTIMEZONE
BEGIN:VEVENT
DTSTART;TZID=UTC:20251218T170000
DTEND;TZID=UTC:20251218T200000
DTSTAMP:20260421T201428
CREATED:20251209T191856Z
LAST-MODIFIED:20251209T194209Z
UID:7376-1766077200-1766088000@giantjones.com
SUMMARY:Procrastinator Pop-Up w/ ArtWorking
DESCRIPTION:ArtWorking is a Madison area nonprofit program that provides career development and support for artists & entrepreneurs with disabilities. Our new show featuring art from these talented artists will be up through the January. \nCheck out the new show by artists from ArtWorking\, now up in the tasting room\, and shop for some last minute gifts from local artists!
URL:https://giantjones.com/event/procrastinators-pop-up-w-artworking/
END:VEVENT
BEGIN:VEVENT
DTSTART;TZID=UTC:20251223T160000
DTEND;TZID=UTC:20251223T200000
DTSTAMP:20260421T201428
CREATED:20251216T212108Z
LAST-MODIFIED:20251216T212108Z
UID:7392-1766505600-1766520000@giantjones.com
SUMMARY:Special Tuesday Hours!!!
DESCRIPTION:Since we’re closed Wednesday 12/24 & Thursday 12/25\, we’re going to open up on a Tuesday! \nIf you need any last minute beers/merch/wine for the holiday\, stop on by. Our tasting room will be open 4pm-8pm. \nPlease feel free to bring your own food as The Deliciouser isn’t open. Or order in\, we don’t mind. \nCheers!!!
URL:https://giantjones.com/event/special-tuesday-hours/
LOCATION:Giant Jones Brewing Company\, 931 E Main St.\, Madison\, WI\, 53703\, United States
END:VEVENT
END:VCALENDAR