BEGIN:VCALENDAR
VERSION:2.0
PRODID:-//Giant Jones Brewing Company - ECPv6.15.12.2//NONSGML v1.0//EN
CALSCALE:GREGORIAN
METHOD:PUBLISH
X-ORIGINAL-URL:https://giantjones.com
X-WR-CALDESC:Events for Giant Jones Brewing Company
REFRESH-INTERVAL;VALUE=DURATION:PT1H
X-Robots-Tag:noindex
X-PUBLISHED-TTL:PT1H
BEGIN:VTIMEZONE
TZID:UTC
BEGIN:STANDARD
TZOFFSETFROM:+0000
TZOFFSETTO:+0000
TZNAME:UTC
DTSTART:20250101T000000
END:STANDARD
END:VTIMEZONE
BEGIN:VEVENT
DTSTART;TZID=UTC:20260425T160000
DTEND;TZID=UTC:20260425T200000
DTSTAMP:20260421T084034
CREATED:20260413T195447Z
LAST-MODIFIED:20260413T200001Z
UID:7752-1777132800-1777147200@giantjones.com
SUMMARY:WanderLust Pop-Up on Independent Bookstore Day
DESCRIPTION:WanderLust Mobile Bookstore is a romance-only\, women-owned indie bookstore on wheels serving all lovers of love! \n“Our mission is to bring inclusive\, joyful\, and love-filled stories directly to the community. We center on romance novels—a genre too often dismissed as frivolous or less worthy—because we believe stories about love\, pleasure\, identity\, and empowerment matter deeply. \nBy curating diverse titles and creating a space where everyone can see themselves reflected in the pages\, we’re challenging stigma and celebrating the power of storytelling. As part of our commitment to community care\, we also offer resources and pop-up events that support sexual health and wellness. \nThis isn’t just a bookstore on wheels—it’s a mobile movement for connection\, visibility\, and unapologetic joy.”‘ \nJoin us on Independent Bookstore Day as WanderLust Mobile Bookstore will be parking their van outside of our tasting room. There will be some special guests as well…we will keep you posted. \nWanderLust will be here 4pm-8pm. The Giant Jones tasting room is open 3pm-9pm.
URL:https://giantjones.com/event/wanderlust-pop-up-on-independent-bookstore-day/
LOCATION:Giant Jones Brewing Company\, 931 E Main St.\, Madison\, WI\, 53703\, United States
END:VEVENT
BEGIN:VEVENT
DTSTART;TZID=UTC:20260430T190000
DTEND;TZID=UTC:20260430T200000
DTSTAMP:20260421T084034
CREATED:20260402T220200Z
LAST-MODIFIED:20260402T220701Z
UID:7734-1777575600-1777579200@giantjones.com
SUMMARY:Big Beers\, Bangin' Books - Long-Time Crush
DESCRIPTION:It’s the last Thursday of the month\, so time for another Big Beers\, Bangin’ Books meet-up! \nEvery month romance readers gather to discuss their chosen books featuring a romance book trope. Led by our very own Erika Jones & her friend Amy\, this book group is open to any one who loves romance books. This month the chosen trope is “long-time crush”. So grab a book or books featuring this story line and join us for some big beers AND bangin’ books! \nSuggested Readings: \n\nHomecoming King by Penny Reid\nIn a Rush by Kate Canterbary\nA Lady for a Duke by Alexis Hall\nThe Love Lyric by Kristina Forest\nPlay Along by Liz Tomforde\nProject Hero by Briar Prescott\nProtective Heart by Brighton Walsh\nSeduce Me at Sunrise by Lisa Kleypas\nWanna Bet by Talia Hibbert\nWhen He Was Wicked by Julia Quinn
URL:https://giantjones.com/event/big-beers-bangin-books-long-time-crush/
LOCATION:WI
END:VEVENT
END:VCALENDAR