BEGIN:VCALENDAR
VERSION:2.0
PRODID:-//Giant Jones Brewing Company - ECPv6.15.12.2//NONSGML v1.0//EN
CALSCALE:GREGORIAN
METHOD:PUBLISH
X-ORIGINAL-URL:https://giantjones.com
X-WR-CALDESC:Events for Giant Jones Brewing Company
REFRESH-INTERVAL;VALUE=DURATION:PT1H
X-Robots-Tag:noindex
X-PUBLISHED-TTL:PT1H
BEGIN:VTIMEZONE
TZID:UTC
BEGIN:STANDARD
TZOFFSETFROM:+0000
TZOFFSETTO:+0000
TZNAME:UTC
DTSTART:20230101T000000
END:STANDARD
END:VTIMEZONE
BEGIN:VEVENT
DTSTART;TZID=UTC:20240926T190000
DTEND;TZID=UTC:20240926T200000
DTSTAMP:20260421T044933
CREATED:20240906T173628Z
LAST-MODIFIED:20240906T181944Z
UID:5869-1727377200-1727380800@giantjones.com
SUMMARY:Big Beers\, Bangin' Books - Cowboy Romance
DESCRIPTION:  \nDo you enjoy a saucy romance novel? Do you believe in love? Well we’ve got the perfect monthly get-together for you. \nEvery month we host our romance reading discussion group\, Big Beers\, Bangin’ Books! We pick a romance trope\, then each bring in a book featuring said trope. Have a beer\, wine or soda and chat with other romance lovers. \nThe discussion is led by romance reader extraordinaire Amy & she’s usually joined by GJ CEO Erika. \nThis monthly meet-up is open to any and all romance readers! \nThis month: Cowboy/Western Romances in which hearts are rounded up… \nSuggested Reading: \nDone & Dusted by Lyla Sage \nHome for a Cowboy by Amy Aislin \nRed Dirt Heart by NR Walker \nA Thorn in the Saddle by Rebekah Weatherspoon \nCorralled by Lorelei James \nCattle Stop by Kit Oliver \nHigh Country Bride by Linda Lael Miller \nNight Hawk by Beverly Jenkins
URL:https://giantjones.com/event/big-beers-bangin-books-cowboy-romance/
LOCATION:Giant Jones Brewing Company\, 931 E Main St.\, Madison\, WI\, 53703\, United States
END:VEVENT
END:VCALENDAR