BEGIN:VCALENDAR
VERSION:2.0
PRODID:-//Giant Jones Brewing Company - ECPv6.15.12.2//NONSGML v1.0//EN
CALSCALE:GREGORIAN
METHOD:PUBLISH
X-ORIGINAL-URL:https://giantjones.com
X-WR-CALDESC:Events for Giant Jones Brewing Company
REFRESH-INTERVAL;VALUE=DURATION:PT1H
X-Robots-Tag:noindex
X-PUBLISHED-TTL:PT1H
BEGIN:VTIMEZONE
TZID:UTC
BEGIN:STANDARD
TZOFFSETFROM:+0000
TZOFFSETTO:+0000
TZNAME:UTC
DTSTART:20220101T000000
END:STANDARD
END:VTIMEZONE
BEGIN:VEVENT
DTSTART;TZID=UTC:20230629T190000
DTEND;TZID=UTC:20230629T200000
DTSTAMP:20260421T115028
CREATED:20230526T180422Z
LAST-MODIFIED:20230526T180422Z
UID:3960-1688065200-1688068800@giantjones.com
SUMMARY:Big Beers\, Bangin' Books - Monster Romance
DESCRIPTION:Join Giant Jones co-owner\, Erika\, along with romance reader extraordinaire\, Amy\, for a trope-tastic romance book discussion!\n\nWe’ll meet up the last Thursday of each month for a friendly conversation over some delicious beers.\n\nEach month we’ll pick a common romance trope; you bring in a book that you’d like to share that features said topic.\n\nThis month’s trope: Monster Romance!\n\nIn which our protagonists fall in love\, because of\, or in spite of\, one of them being a “monster”.\n\nExamples:\nAngelika Frankenstein Makes Her Match by Sally Thorn\nDeal With The Demon by Chace Verity\nEnsnared By The Orc by Tara Phillips\nA Lady of Rooksgrave Manor by Kathryn Moon\nMorning Glory Milking Farm by C.M. Nacosta\nRadiance by Grace Draven\nSoul Eater by Lily Mayne
URL:https://giantjones.com/event/big-beers-bangin-books-monster-romance/
LOCATION:Giant Jones Brewing Company\, 931 E Main St.\, Madison\, WI\, 53703\, United States
END:VEVENT
END:VCALENDAR