BEGIN:VCALENDAR
VERSION:2.0
PRODID:-//Giant Jones Brewing Company - ECPv6.15.12.2//NONSGML v1.0//EN
CALSCALE:GREGORIAN
METHOD:PUBLISH
X-WR-CALNAME:Giant Jones Brewing Company
X-ORIGINAL-URL:https://giantjones.com
X-WR-CALDESC:Events for Giant Jones Brewing Company
REFRESH-INTERVAL;VALUE=DURATION:PT1H
X-Robots-Tag:noindex
X-PUBLISHED-TTL:PT1H
BEGIN:VTIMEZONE
TZID:UTC
BEGIN:STANDARD
TZOFFSETFROM:+0000
TZOFFSETTO:+0000
TZNAME:UTC
DTSTART:20240101T000000
END:STANDARD
END:VTIMEZONE
BEGIN:VEVENT
DTSTART;TZID=UTC:20250130T190000
DTEND;TZID=UTC:20250130T200000
DTSTAMP:20260421T144828
CREATED:20250108T230152Z
LAST-MODIFIED:20250108T230152Z
UID:6314-1738263600-1738267200@giantjones.com
SUMMARY:Big Beers\, Bangin' Books - One Night Stand
DESCRIPTION:Happy New Year\, which means another year of our Big Beers\, Bangin’ Books! \nJoin us for our monthly romance book discussion. Each month we pick a standard trope from the genre of romance. Then you show up with a book or two or more that features the trope topic and chat away! \nOur very own Erika Jones & her friend Amy lead these monthly discussions. This group is open to anyone and everyone who loves a good romance book! \nThis month’s trope topic: One Night Stand \nSuggested Readings: \nAbout Last Night by Laura Henry \nChange of Heart by Kate Canterbary \nThe Earl Who Isn’t by Courtney Milan \nHot for Teacher by Monique Fisher \nGlitterland by Alexis Hall \nLove and Sportsball by Meka James \nReturn to Hummingbird Way by Reese Ryan \nWildfire by Hannah Grace \n 
URL:https://giantjones.com/event/big-beers-bangin-books-one-night-stand/
LOCATION:Giant Jones Brewing Company\, 931 E Main St.\, Madison\, WI\, 53703\, United States
END:VEVENT
END:VCALENDAR