BEGIN:VCALENDAR
VERSION:2.0
PRODID:-//Giant Jones Brewing Company - ECPv6.15.12.2//NONSGML v1.0//EN
CALSCALE:GREGORIAN
METHOD:PUBLISH
X-ORIGINAL-URL:https://giantjones.com
X-WR-CALDESC:Events for Giant Jones Brewing Company
REFRESH-INTERVAL;VALUE=DURATION:PT1H
X-Robots-Tag:noindex
X-PUBLISHED-TTL:PT1H
BEGIN:VTIMEZONE
TZID:UTC
BEGIN:STANDARD
TZOFFSETFROM:+0000
TZOFFSETTO:+0000
TZNAME:UTC
DTSTART:20240101T000000
END:STANDARD
END:VTIMEZONE
BEGIN:VEVENT
DTSTART;TZID=UTC:20251105T170000
DTEND;TZID=UTC:20251105T200000
DTSTAMP:20260420T195329
CREATED:20251027T195410Z
LAST-MODIFIED:20251027T195434Z
UID:7223-1762362000-1762372800@giantjones.com
SUMMARY:The Return of Pizza Night w/ORIGIN Breads!
DESCRIPTION:We’re excited to have our weekly pizza nights back! ORIGIN Breads is heating up their ovens once again for an evening of delicious\, sourdough pizza crust pizzas. \nORIGIN Breads’ naturally-leavened sourdough pizzas are made with the same local ingredients and time-honored processes that they apply to their breads and pastries. Their pizzas\, salads & desserts will be available for take-out from either our tasting room or ORIGIN Breads storefront. OR you may choose to dine-in at Giant Jones. \nPizza Nights occur every Wednesday night\, so get ready!
URL:https://giantjones.com/event/the-return-of-pizza-night-w-origin-breads/
LOCATION:Giant Jones Brewing Company\, 931 E Main St.\, Madison\, WI\, 53703\, United States
END:VEVENT
BEGIN:VEVENT
DTSTART;TZID=UTC:20251112T170000
DTEND;TZID=UTC:20251112T200000
DTSTAMP:20260420T195329
CREATED:20251029T221811Z
LAST-MODIFIED:20251029T221811Z
UID:7248-1762966800-1762977600@giantjones.com
SUMMARY:Pizza Night w/ORIGIN Breads
DESCRIPTION:We’re excited to have our weekly pizza nights back! ORIGIN Breads is heating up their ovens for an evening of delicious\, sourdough pizza crust pizzas. \nORIGIN Breads’ naturally-leavened sourdough pizzas are made with the same local ingredients and time-honored processes that they apply to their breads and pastries. Their pizzas\, salads & desserts will be available for take-out from either our tasting room or ORIGIN Breads storefront. OR you may choose to dine-in at Giant Jones. \nOur tasting room does not take reservations so plan accordingly. \nPizzas are available 5pm-8pm; our tasting room is open 4pm-9pm!
URL:https://giantjones.com/event/pizza-night-w-origin-breads-114/
LOCATION:WI
END:VEVENT
BEGIN:VEVENT
DTSTART;TZID=UTC:20251119T170000
DTEND;TZID=UTC:20251119T200000
DTSTAMP:20260420T195329
CREATED:20251029T222051Z
LAST-MODIFIED:20251118T210505Z
UID:7250-1763571600-1763582400@giantjones.com
SUMMARY:Pizza Night w/ORIGIN Breads
DESCRIPTION:IF YOU’VE ORDERED A PIZZA PLEASE LET US KNOW WHEN YOU ARRIVE! \nWe’re excited to have our weekly pizza nights back! ORIGIN Breads is heating up their ovens for an evening of delicious\, sourdough pizza crust pizzas. \nORIGIN Breads’ naturally-leavened sourdough pizzas are made with the same local ingredients and time-honored processes that they apply to their breads and pastries. Their pizzas\, salads & desserts will be available for take-out from either our tasting room or ORIGIN Breads storefront. OR you may choose to dine-in at Giant Jones. \nOur tasting room does not take reservations so plan accordingly. \nPizzas are available 5pm-8pm; our tasting room is open 4pm-9pm!
URL:https://giantjones.com/event/pizza-night-w-origin-breads-115/
LOCATION:WI
END:VEVENT
END:VCALENDAR