BEGIN:VCALENDAR
VERSION:2.0
PRODID:-//Giant Jones Brewing Company - ECPv6.15.12.2//NONSGML v1.0//EN
CALSCALE:GREGORIAN
METHOD:PUBLISH
X-ORIGINAL-URL:https://giantjones.com
X-WR-CALDESC:Events for Giant Jones Brewing Company
REFRESH-INTERVAL;VALUE=DURATION:PT1H
X-Robots-Tag:noindex
X-PUBLISHED-TTL:PT1H
BEGIN:VTIMEZONE
TZID:UTC
BEGIN:STANDARD
TZOFFSETFROM:+0000
TZOFFSETTO:+0000
TZNAME:UTC
DTSTART:20230101T000000
END:STANDARD
END:VTIMEZONE
BEGIN:VEVENT
DTSTART;TZID=UTC:20240501T160000
DTEND;TZID=UTC:20240501T200000
DTSTAMP:20260422T132720
CREATED:20240418T205617Z
LAST-MODIFIED:20240418T211238Z
UID:5360-1714579200-1714593600@giantjones.com
SUMMARY:May Day Pizza & Music Benefit for Gaza
DESCRIPTION:The Middle East Children’s Alliance is a nonprofit organization working for the rights and the well-being of children in the Middle East. MECA supports dozens of community projects for Palestinian children and refugees from Syria. Since 1988 we have delivered $31 million in food and medical aid to Palestine\, Iraq\, and Lebanon. MECA welcomes the support of all people who care about children and their future.\n\nJoin us for a special Wednesday Pizza Night as we host a May Day Pizza & Music Benefit for Humanitarian Aid to Gaza. This benefit for MECA is presented by Madison-Rafah Sister City Project.\n\nAs usual\, we will have pizzas available from our neighbors at ORIGIN Breads starting at 5pm.\nWe will also have a local cake bake sale to also help raise money.\nLive music will start at 5pm as well.\n\nThis event is free\, there is a suggested donation of $10 (or whatever you can spare).
URL:https://giantjones.com/event/may-day-pizza-music-benefit-for-gaza/
LOCATION:Giant Jones Brewing Company\, 931 E Main St.\, Madison\, WI\, 53703\, United States
END:VEVENT
BEGIN:VEVENT
DTSTART;TZID=UTC:20240508T170000
DTEND;TZID=UTC:20240508T200000
DTSTAMP:20260422T132720
CREATED:20240430T212843Z
LAST-MODIFIED:20240430T212843Z
UID:5408-1715187600-1715198400@giantjones.com
SUMMARY:Pizza Night w/ORIGIN Breads
DESCRIPTION:  \nEvery Wednesday we team up with our neighbors down the hall at ORIGIN Breads for a Pizza Night! ORIGIN makes the pies and we supply the dining area in our tasting room. They have also added assorted baked cookies/brownies & a seasonal salad for you to enjoy as well. You can then eat your dinner and have some beer here. \nPre-Order from ORIGIN’s website\, select a “pick-up” time\, and show up at our tasting room on Wednesday. When the pizzas are ready\, they will be brought to our tasting room so listen for your name when called. \nYou can also order directly from your phone when you get here. \nThere is no reserved seating\, tables are first come first serve so plan accordingly! \nOur tasting room is open 4pm-8pm; pizzas start at 5pm.
URL:https://giantjones.com/event/pizza-night-w-origin-breads-69/
LOCATION:Giant Jones Brewing Company\, 931 E Main St.\, Madison\, WI\, 53703\, United States
END:VEVENT
BEGIN:VEVENT
DTSTART;TZID=UTC:20240522T170000
DTEND;TZID=UTC:20240522T200000
DTSTAMP:20260422T132720
CREATED:20240430T213741Z
LAST-MODIFIED:20240430T213741Z
UID:5412-1716397200-1716408000@giantjones.com
SUMMARY:Pizza Night w/ORIGIN Breads
DESCRIPTION:Every Wednesday we team up with our neighbors down the hall at ORIGIN Breads for a Pizza Night! ORIGIN makes the pies and we supply the dining area in our tasting room. They have also added assorted baked cookies/brownies & a seasonal salad for you to enjoy as well. You can then eat your dinner and have some beer here. \nPre-Order from ORIGIN’s website\, select a “pick-up” time\, and show up at our tasting room on Wednesday. When the pizzas are ready\, they will be brought to our tasting room so listen for your name when called. \nYou can also order directly from your phone when you get here. \nThere is no reserved seating\, tables are first come first serve so plan accordingly! \nOur tasting room is open 4pm-8pm; pizzas start at 5pm.
URL:https://giantjones.com/event/pizza-night-w-origin-breads-71/
LOCATION:Giant Jones Brewing Company\, 931 E Main St.\, Madison\, WI\, 53703\, United States
END:VEVENT
BEGIN:VEVENT
DTSTART;TZID=UTC:20240529T170000
DTEND;TZID=UTC:20240529T200000
DTSTAMP:20260422T132720
CREATED:20240430T213934Z
LAST-MODIFIED:20240430T213934Z
UID:5414-1717002000-1717012800@giantjones.com
SUMMARY:Pizza Night w/ORIGIN Breads
DESCRIPTION:Every Wednesday we team up with our neighbors down the hall at ORIGIN Breads for a Pizza Night! ORIGIN makes the pies and we supply the dining area in our tasting room. They have also added assorted baked cookies/brownies & a seasonal salad for you to enjoy as well. You can then eat your dinner and have some beer here. \nPre-Order from ORIGIN’s website\, select a “pick-up” time\, and show up at our tasting room on Wednesday. When the pizzas are ready\, they will be brought to our tasting room so listen for your name when called. \nYou can also order directly from your phone when you get here. \nThere is no reserved seating\, tables are first come first serve so plan accordingly! \nOur tasting room is open 4pm-8pm; pizzas start at 5pm.
URL:https://giantjones.com/event/pizza-night-w-origin-breads-72/
LOCATION:Giant Jones Brewing Company\, 931 E Main St.\, Madison\, WI\, 53703\, United States
END:VEVENT
END:VCALENDAR