BEGIN:VCALENDAR
VERSION:2.0
PRODID:-//Giant Jones Brewing Company - ECPv6.15.12.2//NONSGML v1.0//EN
CALSCALE:GREGORIAN
METHOD:PUBLISH
X-ORIGINAL-URL:https://giantjones.com
X-WR-CALDESC:Events for Giant Jones Brewing Company
REFRESH-INTERVAL;VALUE=DURATION:PT1H
X-Robots-Tag:noindex
X-PUBLISHED-TTL:PT1H
BEGIN:VTIMEZONE
TZID:UTC
BEGIN:STANDARD
TZOFFSETFROM:+0000
TZOFFSETTO:+0000
TZNAME:UTC
DTSTART:20240101T000000
END:STANDARD
END:VTIMEZONE
BEGIN:VEVENT
DTSTART;TZID=UTC:20250703T170000
DTEND;TZID=UTC:20250703T200000
DTSTAMP:20260421T120747
CREATED:20250701T180200Z
LAST-MODIFIED:20250701T180200Z
UID:6894-1751562000-1751572800@giantjones.com
SUMMARY:Almost Independence Day w/PPAWI Celebration
DESCRIPTION:  \nThis Thursday we’re hosting our friends from Planned Parenthood Advocates of Wisconsin for a Almost Independence Day celebration!\n\nThey’ll be hanging out celebrating all that they’ve accomplished for reproductive freedom & discussing everything they’re still working on. With activities to refuel for the fight ahead (friendship bracelets\, thank you notes\, etc.) you can help support their amazing organization. AND we will also be hosting our friends from Cinn City Smash as they park their truck here for the night!\n\nLet’s eat & drink this July 3rd for reproductive freedom!
URL:https://giantjones.com/event/almost-independence-day-w-ppawi-celebration/
LOCATION:Giant Jones Brewing Company\, 931 E Main St.\, Madison\, WI\, 53703\, United States
END:VEVENT
BEGIN:VEVENT
DTSTART;TZID=UTC:20250731T190000
DTEND;TZID=UTC:20250731T200000
DTSTAMP:20260421T120747
CREATED:20250701T193347Z
LAST-MODIFIED:20250701T193347Z
UID:6897-1753988400-1753992000@giantjones.com
SUMMARY:Big Beers\, Bangin' Books - Secret Baby
DESCRIPTION:  \nIt’s the last Thursday of the month so calling all romance reading fans!!! Big Beers\, Bangin’ Books happens every month. The group selects a common romance trope\, then reads any romance book that features the chosen topic. Our discussion is led by Amy & Erika\, and is open to anyone who loves reading romance! \nJuly’s trope is Secret Baby in which love creates a family… \nSuggested Readings: \n\nBack in the Texan’s Bed by Naima Simone\nBountiful by Sarina Bowen\nDestiny’s Surrender by Beverly Jenkins\nFumbled by Alexa Martin\nOne in a Million by Beverley Kendall\nPrincess and the Player by Ilsa Madden-Mills\nReckless by Elsie Silver\nSo In Love by Karen Ranney\nSuddenly You by Lisa Kleypas\nTied Up\, Tied Down by Lorelei James
URL:https://giantjones.com/event/big-beers-bangin-books-secret-baby/
LOCATION:Giant Jones Brewing Company\, 931 E Main St.\, Madison\, WI\, 53703\, United States
END:VEVENT
END:VCALENDAR