BEGIN:VCALENDAR
VERSION:2.0
PRODID:-//Giant Jones Brewing Company - ECPv6.15.12.2//NONSGML v1.0//EN
CALSCALE:GREGORIAN
METHOD:PUBLISH
X-ORIGINAL-URL:https://giantjones.com
X-WR-CALDESC:Events for Giant Jones Brewing Company
REFRESH-INTERVAL;VALUE=DURATION:PT1H
X-Robots-Tag:noindex
X-PUBLISHED-TTL:PT1H
BEGIN:VTIMEZONE
TZID:UTC
BEGIN:STANDARD
TZOFFSETFROM:+0000
TZOFFSETTO:+0000
TZNAME:UTC
DTSTART:20230101T000000
END:STANDARD
END:VTIMEZONE
BEGIN:VEVENT
DTSTART;TZID=UTC:20240517T170000
DTEND;TZID=UTC:20240517T210000
DTSTAMP:20260421T120610
CREATED:20240429T215330Z
LAST-MODIFIED:20240430T215401Z
UID:5398-1715965200-1715979600@giantjones.com
SUMMARY:Randy Sarver Art Opening
DESCRIPTION:  \nRandy Sarver is a long-time Madison resident and a photography hobbyist. Randy is a frequent guest and supporter of Giant Jones and is in a continuous internal debate about what his favorite GJ beer is…the Burton Ale or the Grand Stout. Oh\, and the Baltic Porter. \nRandy (Instagram: @rtsarver) enjoys combining his passion for travelling and his interest in photography. He has assembled a collection of his photographs entitled “A Pop of Color.” This collection will be on display at Giant Jones from May 15-June 22. \nJoin us on Friday 5/17 for some beers & an opportunity to meet the artist!
URL:https://giantjones.com/event/randy-sarver-art-opening/
LOCATION:Giant Jones Brewing Company\, 931 E Main St.\, Madison\, WI\, 53703\, United States
END:VEVENT
END:VCALENDAR