BEGIN:VCALENDAR
VERSION:2.0
PRODID:-//Giant Jones Brewing Company - ECPv6.15.12.2//NONSGML v1.0//EN
CALSCALE:GREGORIAN
METHOD:PUBLISH
X-ORIGINAL-URL:https://giantjones.com
X-WR-CALDESC:Events for Giant Jones Brewing Company
REFRESH-INTERVAL;VALUE=DURATION:PT1H
X-Robots-Tag:noindex
X-PUBLISHED-TTL:PT1H
BEGIN:VTIMEZONE
TZID:UTC
BEGIN:STANDARD
TZOFFSETFROM:+0000
TZOFFSETTO:+0000
TZNAME:UTC
DTSTART:20240101T000000
END:STANDARD
END:VTIMEZONE
BEGIN:VEVENT
DTSTART;TZID=UTC:20250530T170000
DTEND;TZID=UTC:20250530T210000
DTSTAMP:20260421T025527
CREATED:20250430T185026Z
LAST-MODIFIED:20250430T185026Z
UID:6719-1748624400-1748638800@giantjones.com
SUMMARY:Tone Madison Office Hours at Giant Jones
DESCRIPTION:If you’ve ever had a question for Tone Madison about one of their pieces\, wanted to scoop a small piece of Tone Madison swag\, or wanted to make an in-person donation (appreciated\, but certainly not required)\, then this is your stop. From 5 to 9 p.m.\, Tone Madison editors will be available to field questions\, hand out Tone Madison merch\, and engage in conversation. \nOffice Hours allows Tone Madison to continue to strengthen their connections with readers\, sponsors\, or anyone who is curious about what keeps pushing this small\, scrappy\, fiercely independent operation forward. \nSo come on out for a drink (non-alcoholic options will be available\, as always)\, some laughs\, great conversation\, and community-building. \n 
URL:https://giantjones.com/event/tone-madison-office-hours-at-giant-jones/
LOCATION:Giant Jones Brewing Company\, 931 E Main St.\, Madison\, WI\, 53703\, United States
END:VEVENT
END:VCALENDAR