BEGIN:VCALENDAR
VERSION:2.0
PRODID:-//Giant Jones Brewing Company - ECPv6.15.12.2//NONSGML v1.0//EN
CALSCALE:GREGORIAN
METHOD:PUBLISH
X-WR-CALNAME:Giant Jones Brewing Company
X-ORIGINAL-URL:https://giantjones.com
X-WR-CALDESC:Events for Giant Jones Brewing Company
REFRESH-INTERVAL;VALUE=DURATION:PT1H
X-Robots-Tag:noindex
X-PUBLISHED-TTL:PT1H
BEGIN:VTIMEZONE
TZID:UTC
BEGIN:STANDARD
TZOFFSETFROM:+0000
TZOFFSETTO:+0000
TZNAME:UTC
DTSTART:20230101T000000
END:STANDARD
END:VTIMEZONE
BEGIN:VEVENT
DTSTART;TZID=UTC:20241011T170000
DTEND;TZID=UTC:20241011T210000
DTSTAMP:20260421T193128
CREATED:20241010T155043Z
LAST-MODIFIED:20241010T155043Z
UID:5965-1728666000-1728680400@giantjones.com
SUMMARY:Tone Madison Office Hours
DESCRIPTION:Come hang out with Tone Madison’s staff and freelancers at our first Office Hours event of 2024! They’ll be gathering at one of their favorite local spots\, Giant Jones Brewing Company\, to talk with their readers and share Tone Madison swag like shirts\, koozies\, stickers\, and more.\n\nTone loves getting to meet their readers face-to-face\, so come on by with any feedback\, questions\, or suggestions. Help Tone continue engaging with their invaluable audience as a fiercely independent local publication.
URL:https://giantjones.com/event/tone-madison-office-hours-2/
LOCATION:Giant Jones Brewing Company\, 931 E Main St.\, Madison\, WI\, 53703\, United States
END:VEVENT
END:VCALENDAR