BEGIN:VCALENDAR
VERSION:2.0
PRODID:-//Giant Jones Brewing Company - ECPv6.15.12.2//NONSGML v1.0//EN
CALSCALE:GREGORIAN
METHOD:PUBLISH
X-WR-CALNAME:Giant Jones Brewing Company
X-ORIGINAL-URL:https://giantjones.com
X-WR-CALDESC:Events for Giant Jones Brewing Company
REFRESH-INTERVAL;VALUE=DURATION:PT1H
X-Robots-Tag:noindex
X-PUBLISHED-TTL:PT1H
BEGIN:VTIMEZONE
TZID:UTC
BEGIN:STANDARD
TZOFFSETFROM:+0000
TZOFFSETTO:+0000
TZNAME:UTC
DTSTART:20230101T000000
END:STANDARD
END:VTIMEZONE
BEGIN:VEVENT
DTSTART;TZID=UTC:20240816T170000
DTEND;TZID=UTC:20240816T210000
DTSTAMP:20260421T211431
CREATED:20240813T205528Z
LAST-MODIFIED:20240813T205534Z
UID:5810-1723827600-1723842000@giantjones.com
SUMMARY:J Myszka Lewis Art Opening
DESCRIPTION:We’ve got some new beauties hanging on our walls and we want you to help us celebrate our new show! \nJoin us as we welcome artist J Myszka Lewis to our tasting room. Enjoy some beverages\, meet the artist and celebrate local art! \nJ Myszka Lewis is an artist based in Madison\, WI. She uses print media\, embroidery\, and painting to explore various concepts that stem from considerations of pattern and repetition. Her current work uses repeated floral imagery as subject matter. \nShowing now through September 7th!
URL:https://giantjones.com/event/j-myszka-lewis-art-opening/
LOCATION:Giant Jones Brewing Company\, 931 E Main St.\, Madison\, WI\, 53703\, United States
END:VEVENT
END:VCALENDAR