BEGIN:VCALENDAR
VERSION:2.0
PRODID:-//Giant Jones Brewing Company - ECPv6.15.12.2//NONSGML v1.0//EN
CALSCALE:GREGORIAN
METHOD:PUBLISH
X-WR-CALNAME:Giant Jones Brewing Company
X-ORIGINAL-URL:https://giantjones.com
X-WR-CALDESC:Events for Giant Jones Brewing Company
REFRESH-INTERVAL;VALUE=DURATION:PT1H
X-Robots-Tag:noindex
X-PUBLISHED-TTL:PT1H
BEGIN:VTIMEZONE
TZID:UTC
BEGIN:STANDARD
TZOFFSETFROM:+0000
TZOFFSETTO:+0000
TZNAME:UTC
DTSTART:20230101T000000
END:STANDARD
END:VTIMEZONE
BEGIN:VEVENT
DTSTART;TZID=UTC:20240215T160000
DTEND;TZID=UTC:20240215T200000
DTSTAMP:20260422T155859
CREATED:20240212T192302Z
LAST-MODIFIED:20240215T202538Z
UID:5022-1708012800-1708027200@giantjones.com
SUMMARY:Beer & Treats Flight Night w/The Baked Lab
DESCRIPTION:  \nJoin us for another fun flight night!\nThis time around we have our friends from The Baked Lab\, who will be making flights of special treats. We will then pair these tasty treats with our beer.\nYou will be able to enjoy a flight of 3 treats w/ 3 beers (while supplies last) for $18.\n\nTonight’s Treat is Macarons!:\n\n\nEverything Bagel paired with GJ British-Style Barleywine\nEspresso Bourbon Pecan paired with GJ Goedt Biere\nRaspberry Cheesecake paired with GJ  Grand Stout
URL:https://giantjones.com/event/beer-treats-flight-night-w-the-baked-lab/
LOCATION:Giant Jones Brewing Company\, 931 E Main St.\, Madison\, WI\, 53703\, United States
END:VEVENT
BEGIN:VEVENT
DTSTART;TZID=UTC:20240216T170000
DTEND;TZID=UTC:20240216T200000
DTSTAMP:20260422T155859
CREATED:20240213T212715Z
LAST-MODIFIED:20240213T215253Z
UID:5031-1708102800-1708113600@giantjones.com
SUMMARY:Fish Fry-Day Pop-Up
DESCRIPTION:Laila from “Layla’s” & Christine from “Slide” will be here frying up some tasty fish dinners. You can pre-order or when you come in. \nGrab some Giant Jones bottles to take home if you take your fish to-go OR eat here along side a tasty beer! \nChoose from Fried Catfish with remoulade OR Friday Walleye with yogurt sauce; each comes with baby potatoes & coleslaw! \nThis will be every Friday during Lent.
URL:https://giantjones.com/event/fish-fry-day-pop-up/
LOCATION:Giant Jones Brewing Company\, 931 E Main St.\, Madison\, WI\, 53703\, United States
END:VEVENT
BEGIN:VEVENT
DTSTART;TZID=UTC:20240217T120000
DTEND;TZID=UTC:20240217T170000
DTSTAMP:20260422T155859
CREATED:20240116T224536Z
LAST-MODIFIED:20240116T224536Z
UID:4931-1708171200-1708189200@giantjones.com
SUMMARY:Madison Makers Winter Market & Pub Crawl
DESCRIPTION:Shop over 80 makers with a drink in hand\, while exploring some of Madison’s local breweries\, distilleries and bars!  \nThis is an ALL AGES\, family friendly event.This event is free and no tickets are needed to come and enjoy the fun! You only pay for the items you want to buy from vendors\, and the drinks or food you want to consume.  \nGiant Jones will be hosting the following vendors in our tasting room: \nChase My Creations – Accessories\, Apparel\, Jewelry\, Pet Items\, Stickers \nCrocheting Ace – Crocheted Goods \nKale Maille – Home Decor\, Jewelry \nKay Reynolds Design – Art/Prints\, Accessories\, Cards\, Decor\, Jewelry\, Printmakers\, Stationary/Office Goods\, Stickers \n 
URL:https://giantjones.com/event/madison-makers-winter-market-pub-crawl/
LOCATION:Giant Jones Brewing Company\, 931 E Main St.\, Madison\, WI\, 53703\, United States
END:VEVENT
BEGIN:VEVENT
DTSTART;TZID=UTC:20240223T170000
DTEND;TZID=UTC:20240223T200000
DTSTAMP:20260422T155859
CREATED:20240213T212907Z
LAST-MODIFIED:20240213T215315Z
UID:5034-1708707600-1708718400@giantjones.com
SUMMARY:Fish Fry-day Pop-Up
DESCRIPTION:  \nLaila from “Layla’s” & Christine from “Slide” will be here frying up some tasty fish dinners. You can pre-order or when you come in. \nGrab some Giant Jones bottles to take home if you take your fish to-go OR eat here along side a tasty beer! \nChoose from Fried Catfish with remoulade OR Friday Walleye with yogurt sauce; each comes with baby potatoes & coleslaw! \nThis will be every Friday during Lent.
URL:https://giantjones.com/event/fish-fry-day-pop-up-2/
LOCATION:Giant Jones Brewing Company\, 931 E Main St.\, Madison\, WI\, 53703\, United States
END:VEVENT
BEGIN:VEVENT
DTSTART;TZID=UTC:20240223T170000
DTEND;TZID=UTC:20240223T220000
DTSTAMP:20260422T155859
CREATED:20240206T220155Z
LAST-MODIFIED:20240219T204627Z
UID:4991-1708707600-1708725600@giantjones.com
SUMMARY:Barrel-Aged Strong Ale Release Weekend
DESCRIPTION:Beer Release Party at State Line Distillery \nStep into the heart of the barrel-aging experience at our Beer Release Party! Indulge in the first pours of this exclusive Barrel Aged Strong Ale\, a testament to Giant Jones Brewing’s ingenuity and State Line Distillery’s artisanal craftsmanship. Immerse yourself in the lively atmosphere with the makers\, savor one-night-only whiskey & beers specials\, and be among the first to savor this remarkable collaboration. \nClick here for more details.  \nAnd then tomorrow… \nBeer Release Day at Giant Jones Brewing – Saturday\, February 24th starting at 4p \nContinue the celebration at Giant Jones Brewing for the official Beer Release Day! Dive into the heart of the brewing process and witness the journey from barrel to glass. Enjoy an array of Giant Jones Brewing’s signature creations alongside the star of the weekend\, the Barrel Aged Strong Ale. Gather with fellow beer enthusiasts\, meet the makers\, and revel in the vibrant community spirit.
URL:https://giantjones.com/event/release-weekend/
LOCATION:state line distillery\, 1413 Northern Ct.\, Madison\, WI\, United States
END:VEVENT
BEGIN:VEVENT
DTSTART;TZID=UTC:20240229T160000
DTEND;TZID=UTC:20240229T200000
DTSTAMP:20260422T155859
CREATED:20240212T192941Z
LAST-MODIFIED:20240212T192941Z
UID:5029-1709222400-1709236800@giantjones.com
SUMMARY:Beer & Treats Flight Night w/ The Baked Lab
DESCRIPTION:  \nJoin us for another fun flight night!\nThis time around we have our friends from The Baked Lab\, who will be making flights of special treats. We will then pair these tasty treats with our beer.\nYou will be able to enjoy a flight of 3 treats w/ 3 beers (while supplies last).\n\nTonight’s Treat: Mini-Deep Dish Cookies!!!!
URL:https://giantjones.com/event/beer-treats-flight-night-w-the-baked-lab-3/
LOCATION:Giant Jones Brewing Company\, 931 E Main St.\, Madison\, WI\, 53703\, United States
END:VEVENT
END:VCALENDAR