BEGIN:VCALENDAR
VERSION:2.0
PRODID:-//Giant Jones Brewing Company - ECPv6.15.12.2//NONSGML v1.0//EN
CALSCALE:GREGORIAN
METHOD:PUBLISH
X-WR-CALNAME:Giant Jones Brewing Company
X-ORIGINAL-URL:https://giantjones.com
X-WR-CALDESC:Events for Giant Jones Brewing Company
REFRESH-INTERVAL;VALUE=DURATION:PT1H
X-Robots-Tag:noindex
X-PUBLISHED-TTL:PT1H
BEGIN:VTIMEZONE
TZID:UTC
BEGIN:STANDARD
TZOFFSETFROM:+0000
TZOFFSETTO:+0000
TZNAME:UTC
DTSTART:20240101T000000
END:STANDARD
END:VTIMEZONE
BEGIN:VEVENT
DTSTART;TZID=UTC:20250509T173000
DTEND;TZID=UTC:20250509T193000
DTSTAMP:20260422T013636
CREATED:20250429T181808Z
LAST-MODIFIED:20250429T181808Z
UID:6705-1746811800-1746819000@giantjones.com
SUMMARY:Giant Jones Launch Party at The Brickhouse in DePere
DESCRIPTION:  \n \nWe’re so excited for our beers to be available in the Fox Cities! Join us for an epic launch event at The Brickhouse Craft Burgers & Brews! Erika & Jessica Jones will be hanging out\, ready to answer any and all questions about our brewery. We are the ONLY certified organic brewery in Wisconsin and we’re excited to share our story and beer with you all!
URL:https://giantjones.com/event/giant-jones-launch-party-at-the-brickhouse-in-depere/
LOCATION:The Brickhouse\, 500 Grant St.\, DePere\, WI\, 54115\, United States
END:VEVENT
END:VCALENDAR