BEGIN:VCALENDAR
VERSION:2.0
PRODID:-//Giant Jones Brewing Company - ECPv6.15.12.2//NONSGML v1.0//EN
CALSCALE:GREGORIAN
METHOD:PUBLISH
X-WR-CALNAME:Giant Jones Brewing Company
X-ORIGINAL-URL:https://giantjones.com
X-WR-CALDESC:Events for Giant Jones Brewing Company
REFRESH-INTERVAL;VALUE=DURATION:PT1H
X-Robots-Tag:noindex
X-PUBLISHED-TTL:PT1H
BEGIN:VTIMEZONE
TZID:UTC
BEGIN:STANDARD
TZOFFSETFROM:+0000
TZOFFSETTO:+0000
TZNAME:UTC
DTSTART:20250101T000000
END:STANDARD
END:VTIMEZONE
BEGIN:VEVENT
DTSTART;TZID=UTC:20260110T150000
DTEND;TZID=UTC:20260110T210000
DTSTAMP:20260420T201307
CREATED:20251122T011140Z
LAST-MODIFIED:20260107T221202Z
UID:7345-1768057200-1768078800@giantjones.com
SUMMARY:GJ Barrel-Aged Fest Weekend - Saturday
DESCRIPTION:It’s January so let’s bring out the big BIG beers; we’re talking all Barrel-Aged beers. \nWe will have 5 of our very own barrel-aged brews\, all have been aged in used spirit barrels from our friends at State Line Distillery. Including our latest release\, our Dopplesticke Altbier that’s been aging in in State Line single malt barrels!!! \nWe will also be serving some barrel-aged beers from our local friends\, including Vintage Brewing Company & Delta Beer Lab. \nOur celebration of barrel-aged beers will happen two nights\, both Friday & Saturday. Our very own Jessica Jones will be offering 2 rounds of guided flights each night. Times for the guided flights are 5:30pm & 7pm. Flights are 4- 3oz tasters for $20. \nIf you love big barrel-aged beers\, this weekend is for you!!! \nFriday 1/9 4pm-9pm \nSaturday 1/10 3pm-9pm \nFeatured Barrel-Aged Beers: \n\nGiant Jones Barrel-Aged Ryewine (Draft Only) (10.2% abv) \nGiant Jones Someone to Someone Barrel-Aged Belgian-Style Stout (10.2% abv) \nGiant Jones Barrel-Aged Adambier (Draft Only) (9.3% abv)\nGiant Jones Pane Forte Cuvee (Draft Only) (8.1% abv) \nGiant Jones Barrel-Aged Doppelsticke Altbier (9.8% abv)\nDelta Beer Lab Barrel-Aged Barleywine (12% abv)\nDelta Beer Lab Admiral Barrel-Aged Stout (14.1% abv)\nVintage Brewing Co. Bourbon Barrel-Aged Dedication Dubbel (11.2% abv)\nAlt Brew Velvet Midnight Barrel-Aged Imperial Brown Ale (10% abv)
URL:https://giantjones.com/event/gj-barrel-aged-fest-weekend-saturday/
LOCATION:Giant Jones Brewing Company\, 931 E Main St.\, Madison\, WI\, 53703\, United States
END:VEVENT
END:VCALENDAR