BEGIN:VCALENDAR
VERSION:2.0
PRODID:-//Giant Jones Brewing Company - ECPv6.15.12.2//NONSGML v1.0//EN
CALSCALE:GREGORIAN
METHOD:PUBLISH
X-ORIGINAL-URL:https://giantjones.com
X-WR-CALDESC:Events for Giant Jones Brewing Company
REFRESH-INTERVAL;VALUE=DURATION:PT1H
X-Robots-Tag:noindex
X-PUBLISHED-TTL:PT1H
BEGIN:VTIMEZONE
TZID:UTC
BEGIN:STANDARD
TZOFFSETFROM:+0000
TZOFFSETTO:+0000
TZNAME:UTC
DTSTART:20240101T000000
END:STANDARD
END:VTIMEZONE
BEGIN:VEVENT
DTSTART;TZID=UTC:20251120T150000
DTEND;TZID=UTC:20251120T200000
DTSTAMP:20260420T184425
CREATED:20251117T222000Z
LAST-MODIFIED:20251117T223042Z
UID:7300-1763650800-1763668800@giantjones.com
SUMMARY:Wisco Nouveau Wine Release Party
DESCRIPTION:Our friends at American Wine Project have a new wine release for you to enjoy so we’re throwing a release party! \nJoin us on Thursday as we pop 0pen bottles of AWP’s Wisco Nouveau. This wine is a delightful\, fresh bottling of their concord nouveau. Made with 100% hand-harvested Concord grapes! \n29 days carbonic maceration\, then pressed gently to a small stainless steel tank\, it was bottled shortly after fermentation with minimal intervention. \nThis will be available by the glass OR available in bottles t0-go. The winemaker\, Erin Rassmusen will also be hanging out for part of the night to chat about this and all her other delicious wines. \nOnly 30 cases made\, so you don’t want to miss this! \nAND since it was originally named Wisco Disco\, we’ll be playing Disco Music all night.
URL:https://giantjones.com/event/wisco-nouveau-wine-release-party/
LOCATION:Giant Jones Brewing Company\, 931 E Main St.\, Madison\, WI\, 53703\, United States
END:VEVENT
BEGIN:VEVENT
DTSTART;TZID=UTC:20251120T190000
DTEND;TZID=UTC:20251120T200000
DTSTAMP:20260420T184425
CREATED:20251103T194437Z
LAST-MODIFIED:20251103T194437Z
UID:7283-1763665200-1763668800@giantjones.com
SUMMARY:Big Beers\, Bangin' Books - Blind Date Romance
DESCRIPTION:If you love to read\, especially romance novels\, you will love our monthly book discussion group. Big Beers\, Bangin’ Books is for anyone and everyone. Each month the group picks a common romance trope. You read a book or books featuring that trope and come share what you’ve read. \nWe meet the last Thursday of the month (except if there’s a holiday). You can grab your beverage of choice and sit with like minded romance readers. Our discussion group is led by our very own Erika Jones & her friend Amy. \nNovember’s trope is: “Blind Date Romance” in which blind dates lead to lasing love. \nSuggested Readings: \n\nThe Build-a-Boyfriend Project by Mason Deaver\nFlirting with Forever by Cara Bastone\nFumble Recovery by Jenny Redford\nHer Pretend Christmas Date by Jackie Lau\nPerfect Match by Eliza McLane\nNot My Romeo by Ilsa Madden-Mills\nRocket Science by Emilyl Mayer\nThree Blind Dates by Meghan Quinn\nWritten in the Stars by Alexandra Bellefleaur
URL:https://giantjones.com/event/big-beers-bangin-books-blind-date-romance/
LOCATION:Giant Jones Brewing Company\, 931 E Main St.\, Madison\, WI\, 53703\, United States
END:VEVENT
END:VCALENDAR