BEGIN:VCALENDAR
VERSION:2.0
PRODID:-//Giant Jones Brewing Company - ECPv6.15.12.2//NONSGML v1.0//EN
CALSCALE:GREGORIAN
METHOD:PUBLISH
X-ORIGINAL-URL:https://giantjones.com
X-WR-CALDESC:Events for Giant Jones Brewing Company
REFRESH-INTERVAL;VALUE=DURATION:PT1H
X-Robots-Tag:noindex
X-PUBLISHED-TTL:PT1H
BEGIN:VTIMEZONE
TZID:UTC
BEGIN:STANDARD
TZOFFSETFROM:+0000
TZOFFSETTO:+0000
TZNAME:UTC
DTSTART:20240101T000000
END:STANDARD
END:VTIMEZONE
BEGIN:VEVENT
DTSTART;TZID=UTC:20250610T160000
DTEND;TZID=UTC:20250610T210000
DTSTAMP:20260421T033557
CREATED:20250603T172356Z
LAST-MODIFIED:20250603T172356Z
UID:6824-1749571200-1749589200@giantjones.com
SUMMARY:Benefit for Community Shares at Olbrich Biergarten
DESCRIPTION:On this community benefit day\, join us at the Biergarten at Olbrich Park in supporting Community Shares of Wisconsin! They help bring the community together with 70 different nonprofits\, raising funds for\, and awareness of\, local social and environmental justice movements. Proceeds from the day will go toward Community Shares\, and we’ll collect additional donations at the counter via our register!\n\nFor more info: https://www.communityshares.com\n\nIn the event of inclement weather\, this benefit night will be re-scheduled to 6/11.\n\nEnjoy several beers from Giant Jones on tap!
URL:https://giantjones.com/event/benefit-for-community-shares-at-olbrich-biergarten/
LOCATION:Biergarten at Olbrich Park\, 3527 Atwood Ave.\, Madison\, WI\, 53714\, United States
END:VEVENT
END:VCALENDAR