BEGIN:VCALENDAR
VERSION:2.0
PRODID:-//Giant Jones Brewing Company - ECPv6.15.12.2//NONSGML v1.0//EN
CALSCALE:GREGORIAN
METHOD:PUBLISH
X-ORIGINAL-URL:https://giantjones.com
X-WR-CALDESC:Events for Giant Jones Brewing Company
REFRESH-INTERVAL;VALUE=DURATION:PT1H
X-Robots-Tag:noindex
X-PUBLISHED-TTL:PT1H
BEGIN:VTIMEZONE
TZID:UTC
BEGIN:STANDARD
TZOFFSETFROM:+0000
TZOFFSETTO:+0000
TZNAME:UTC
DTSTART:20240101T000000
END:STANDARD
END:VTIMEZONE
BEGIN:VEVENT
DTSTART;TZID=UTC:20250510T120000
DTEND;TZID=UTC:20250510T150000
DTSTAMP:20260421T051040
CREATED:20250429T182418Z
LAST-MODIFIED:20250429T182418Z
UID:6708-1746878400-1746889200@giantjones.com
SUMMARY:Giant Jones Beer Tasting at Niemuth's Southside Market  - Appleton
DESCRIPTION:We’re so excited for our beers to be available in Appleton\, did you know this is where Jessica grew up? Well\, join Erika & Jessica Jones for a beer tasting hosted by our friends at Neimuth’s Southside Market. \nWe’ll have our delicious beers ready for you to try and bottles for you to purchase. This is the perfect way to stock-up for your Saturday night!
URL:https://giantjones.com/event/giant-jones-beer-tasting-at-niemuths-southside-market-appleton/
LOCATION:Niemuth’s Southside Market\, 2121 S. Oneida St.\, Appleton\, WI\, 54915\, United States
END:VEVENT
BEGIN:VEVENT
DTSTART;TZID=UTC:20250510T170000
DTEND;TZID=UTC:20250510T190000
DTSTAMP:20260421T051040
CREATED:20250429T183341Z
LAST-MODIFIED:20250429T183341Z
UID:6711-1746896400-1746903600@giantjones.com
SUMMARY:Giant Jones Launch Party at Greene's Pour House - Neenah
DESCRIPTION:Our beer has finally landed in the Fox Cities so join us as we celebrate our official launch! Owners Erika & Jessica Jones will be hanging out with our friends at Greene’s Pour House\, to answer any and all questions about Giant Jones. Enjoy some certified organic beer and just try to keep up with the Joneses…
URL:https://giantjones.com/event/giant-jones-launch-party-at-greenes-pour-house-neenah/
LOCATION:Greene’s Pour House\, 134 West Wisconsin Ave.\, Neenah\, WI\, 54596\, United States
END:VEVENT
END:VCALENDAR