BEGIN:VCALENDAR
VERSION:2.0
PRODID:-//Giant Jones Brewing Company - ECPv6.15.12.2//NONSGML v1.0//EN
CALSCALE:GREGORIAN
METHOD:PUBLISH
X-ORIGINAL-URL:https://giantjones.com
X-WR-CALDESC:Events for Giant Jones Brewing Company
REFRESH-INTERVAL;VALUE=DURATION:PT1H
X-Robots-Tag:noindex
X-PUBLISHED-TTL:PT1H
BEGIN:VTIMEZONE
TZID:UTC
BEGIN:STANDARD
TZOFFSETFROM:+0000
TZOFFSETTO:+0000
TZNAME:UTC
DTSTART:20240101T000000
END:STANDARD
END:VTIMEZONE
BEGIN:VEVENT
DTSTART;TZID=UTC:20250501T170000
DTEND;TZID=UTC:20250501T200000
DTSTAMP:20260421T051044
CREATED:20250428T174203Z
LAST-MODIFIED:20250428T174203Z
UID:6683-1746118800-1746129600@giantjones.com
SUMMARY:UW Printmakers Spring Show
DESCRIPTION:Once again we have a selection of work from the latest graduates from UW-Madison’s Printmaking program! These limited works will be up through 5/10 and many items are for sale. Stop by and grab a beer and see what these talented students can do. AND maybe walk home with something new and fun for your wall at home!\n\nJoin us for our opening night on Thursday 5/1!
URL:https://giantjones.com/event/uw-printmakers-spring-show/
LOCATION:Giant Jones Brewing Company\, 931 E Main St.\, Madison\, WI\, 53703\, United States
END:VEVENT
END:VCALENDAR