BEGIN:VCALENDAR
VERSION:2.0
PRODID:-//Giant Jones Brewing Company - ECPv6.15.12.2//NONSGML v1.0//EN
CALSCALE:GREGORIAN
METHOD:PUBLISH
X-ORIGINAL-URL:https://giantjones.com
X-WR-CALDESC:Events for Giant Jones Brewing Company
REFRESH-INTERVAL;VALUE=DURATION:PT1H
X-Robots-Tag:noindex
X-PUBLISHED-TTL:PT1H
BEGIN:VTIMEZONE
TZID:UTC
BEGIN:STANDARD
TZOFFSETFROM:+0000
TZOFFSETTO:+0000
TZNAME:UTC
DTSTART:20240101T000000
END:STANDARD
END:VTIMEZONE
BEGIN:VEVENT
DTSTART;TZID=UTC:20250411T170000
DTEND;TZID=UTC:20250411T210000
DTSTAMP:20260421T083332
CREATED:20250404T212238Z
LAST-MODIFIED:20250404T212238Z
UID:6611-1744390800-1744405200@giantjones.com
SUMMARY:"Soft Openings" Art Show by Kate Fogler
DESCRIPTION:Giant Jones very own Kate has some more art hanging up in our tasting room! If you missed her last two shows\, or were a fan\, you don’t want to miss this one. \nCome by Friday 4/11 for the official opening of her latest work; Soft Openings. Grab some beers\, talk with the artist and maybe buy some art!!! \nKate is a Madison-based\, Maine-born textile artist whose work hinges pop art\, American iconography\, and the Industrialization of traditional rug-making craft.
URL:https://giantjones.com/event/soft-openings-art-show-by-kate-fogler/
LOCATION:Giant Jones Brewing Company\, 931 E Main St.\, Madison\, WI\, 53703\, United States
END:VEVENT
END:VCALENDAR