BEGIN:VCALENDAR
VERSION:2.0
PRODID:-//Giant Jones Brewing Company - ECPv6.15.12.2//NONSGML v1.0//EN
CALSCALE:GREGORIAN
METHOD:PUBLISH
X-ORIGINAL-URL:https://giantjones.com
X-WR-CALDESC:Events for Giant Jones Brewing Company
REFRESH-INTERVAL;VALUE=DURATION:PT1H
X-Robots-Tag:noindex
X-PUBLISHED-TTL:PT1H
BEGIN:VTIMEZONE
TZID:UTC
BEGIN:STANDARD
TZOFFSETFROM:+0000
TZOFFSETTO:+0000
TZNAME:UTC
DTSTART:20240101T000000
END:STANDARD
END:VTIMEZONE
BEGIN:VEVENT
DTSTART;TZID=UTC:20250322T140000
DTEND;TZID=UTC:20250322T210000
DTSTAMP:20260421T094409
CREATED:20241226T221859Z
LAST-MODIFIED:20250319T222521Z
UID:6291-1742652000-1742677200@giantjones.com
SUMMARY:Barleywine Fest - Day 2
DESCRIPTION:We love our annual Barleywine Fest so much we decided to stretch the celebration to two days! \nJoin us on either Friday or Saturday to enjoy nothing but barleywines…our barleywines\, our aged barleywines & some guest ones. \nSaturday we’ll be open 2pm-9pm. We will have snacks from Bunky’s AND ORIGIN Breads available to purchase and starting at 5pm you can order food from our neighbors at The Deliciouser! \nHere’s a list of our barleywine line up: \nFrom Giant Jones… \nBatch #1 (10.9% abv)  \nWheatwine (9.1% abv) 5/17/20 \nWheatwine (10.2% abv) 11/8/23 \nAmerican Barleywine (1o.8% abv) 9/22/21 \nAmerican Barleywine (11.3% abv) 9/24/24 \nBritish-Style Barleywine (10.8% abv) 1/26/23 \nBritish-Style Barleywine (11.3% abv) 11/14/23 \nBritish-Style Barleywine (11.2% abv) 11/8/24 \nRyewine (11% abv) 2/28/23 \nExtra Blonde Ale (10.5% abv) 2/26/25 \nGuest Barleywines From: \nDelta Beer Lab Barrel-Aged Barleywine 2022 \nNew Glarus Brewing Company Barley Wine ’24 \nYoungblood Beer Co. Canadian Bachelor Party \nStarkweather Brewing Company Barrel- Aged British Elixir  \nG5 Brewing \nWorking Draft Beer Co. \nLone Girl Brewing Company \nIt’s always a fun time so we hope to see you there.
URL:https://giantjones.com/event/barleywine-fest-day-2/
LOCATION:WI
END:VEVENT
END:VCALENDAR