BEGIN:VCALENDAR
VERSION:2.0
PRODID:-//Giant Jones Brewing Company - ECPv6.15.12.2//NONSGML v1.0//EN
CALSCALE:GREGORIAN
METHOD:PUBLISH
X-ORIGINAL-URL:https://giantjones.com
X-WR-CALDESC:Events for Giant Jones Brewing Company
REFRESH-INTERVAL;VALUE=DURATION:PT1H
X-Robots-Tag:noindex
X-PUBLISHED-TTL:PT1H
BEGIN:VTIMEZONE
TZID:UTC
BEGIN:STANDARD
TZOFFSETFROM:+0000
TZOFFSETTO:+0000
TZNAME:UTC
DTSTART:20240101T000000
END:STANDARD
END:VTIMEZONE
BEGIN:VEVENT
DTSTART;TZID=UTC:20250202T110000
DTEND;TZID=UTC:20250202T150000
DTSTAMP:20260421T125114
CREATED:20250124T200301Z
LAST-MODIFIED:20250124T200301Z
UID:6416-1738494000-1738508400@giantjones.com
SUMMARY:Vegan Pop-Up Brunch at Giant Jones
DESCRIPTION:We are partnering with Level5 Donuts and Ste Martaen for an amazingly delicious all vegan (obvi..) Brunch here in our tasting room.\n\nWe will have our vegan friendly beers available for purchase to enjoy here in our tasting room or you take some bottles to-go.\n\nSte Martaen will be bringing their irresistible brunch favorites; menu details to come.\n\nAnd our neighbors at Level5 will have their donuts & coffee.\n\nBrunch will be available 11am-3pm while supplies last.
URL:https://giantjones.com/event/vegan-pop-up-brunch-at-giant-jones/
LOCATION:Giant Jones Brewing Company\, 931 E Main St.\, Madison\, WI\, 53703\, United States
END:VEVENT
END:VCALENDAR