BEGIN:VCALENDAR
VERSION:2.0
PRODID:-//Giant Jones Brewing Company - ECPv6.15.12.2//NONSGML v1.0//EN
CALSCALE:GREGORIAN
METHOD:PUBLISH
X-ORIGINAL-URL:https://giantjones.com
X-WR-CALDESC:Events for Giant Jones Brewing Company
REFRESH-INTERVAL;VALUE=DURATION:PT1H
X-Robots-Tag:noindex
X-PUBLISHED-TTL:PT1H
BEGIN:VTIMEZONE
TZID:UTC
BEGIN:STANDARD
TZOFFSETFROM:+0000
TZOFFSETTO:+0000
TZNAME:UTC
DTSTART:20240101T000000
END:STANDARD
END:VTIMEZONE
BEGIN:VEVENT
DTSTART;TZID=UTC:20250123T180000
DTEND;TZID=UTC:20250123T200000
DTSTAMP:20260421T172327
CREATED:20250121T183655Z
LAST-MODIFIED:20250121T183655Z
UID:6368-1737655200-1737662400@giantjones.com
SUMMARY:Brews & Tunes at Biersal Tavern - Milwaukee
DESCRIPTION:Hey Milwaukee we’re back!\n\nBeginning at 6pm\, award winning and women owned & operated Giant Jones Brewing is coming with some of their amazing beers. We’ve hand picked a few of their more obscure beer styles. The history of some of these styles even pre-date modern brewing techniques! Owner & Head Brewer Jessica will be here to answer any questions you may have about these beers.\n\nThen starting at 7pm\, our friends Mea Jima return for another night of performing more of their ethereal soundscapes.\nThis will surely be a fun evening of experimental music paired with experimental beers!
URL:https://giantjones.com/event/brews-tunes-at-biersal-tavern-milwaukee/
LOCATION:biersal tavern\, 5520 W Vliet St.\, Milwaukee\, WI\, 53208\, United States
END:VEVENT
END:VCALENDAR