BEGIN:VCALENDAR
VERSION:2.0
PRODID:-//Giant Jones Brewing Company - ECPv6.15.12.2//NONSGML v1.0//EN
CALSCALE:GREGORIAN
METHOD:PUBLISH
X-WR-CALNAME:Giant Jones Brewing Company
X-ORIGINAL-URL:https://giantjones.com
X-WR-CALDESC:Events for Giant Jones Brewing Company
REFRESH-INTERVAL;VALUE=DURATION:PT1H
X-Robots-Tag:noindex
X-PUBLISHED-TTL:PT1H
BEGIN:VTIMEZONE
TZID:UTC
BEGIN:STANDARD
TZOFFSETFROM:+0000
TZOFFSETTO:+0000
TZNAME:UTC
DTSTART:20240101T000000
END:STANDARD
END:VTIMEZONE
BEGIN:VEVENT
DTSTART;TZID=UTC:20250801T160000
DTEND;TZID=UTC:20250801T210000
DTSTAMP:20260420T214001
CREATED:20250729T210226Z
LAST-MODIFIED:20250729T210226Z
UID:6964-1754064000-1754082000@giantjones.com
SUMMARY:International Beer Day Bottle Specials
DESCRIPTION:  \nToday only we have bottles deals on all of our international-style beers! These deals are only available from our tasting room stop by\, grab a beer & load up for the weekend!
URL:https://giantjones.com/event/international-beer-day-bottle-specials/
LOCATION:Giant Jones Brewing Company\, 931 E Main St.\, Madison\, WI\, 53703\, United States
END:VEVENT
BEGIN:VEVENT
DTSTART;TZID=UTC:20250802T170000
DTEND;TZID=UTC:20250802T210000
DTSTAMP:20260420T214001
CREATED:20250716T194005Z
LAST-MODIFIED:20250716T200103Z
UID:6927-1754154000-1754168400@giantjones.com
SUMMARY:"Sign Posts" by Dan Slick - Closing Reception
DESCRIPTION:“I’m an old man\, and putting together a show of my work feels a little ominous. Will this be my final public statement? Can I say\, or play\, everything I want to in this small show at a brew pub? Not likely\, but the temptation to try is there.” \nShowing – 6/24-8/2 \nClosing Reception 8/2 5pm-9pm; meet the artist AND enjoy music from local musicians who support the artist from 7pm-8pm. \n 
URL:https://giantjones.com/event/sign-posts-by-dan-slick-closing-reception/
LOCATION:Giant Jones Brewing Company\, 931 E Main St.\, Madison\, WI\, 53703\, United States
END:VEVENT
BEGIN:VEVENT
DTSTART;TZID=UTC:20250808T160000
DTEND;TZID=UTC:20250808T210000
DTSTAMP:20260420T214001
CREATED:20250716T190130Z
LAST-MODIFIED:20250721T193922Z
UID:6915-1754668800-1754686800@giantjones.com
SUMMARY:Great Taste Eve at Giant Jones!
DESCRIPTION:It’s the night before the Great Taste of the Midwest so we’ve got a special treat for you\, especially if you’re just in town for this beer weekend. \nJoin our co-owner/brewer Jessica Jones as she guides you through a flavorful beer journey. She will be selecting a flight of four Giant Jones beers\, then she’ll chat with you all about the beers & what makes them so special. Each flight is $16. We will have 2 time slots for this fun event. 5:30pm or 7pm. Book your slot now as space is limited; link is below! \nIf you didn’t get tickets for The Great Taste of the Midwest you will have your chance tonight. We have 2 pairs of tickets and will be raffling them off at 6pm & 8pm! \nWeather permitting we will also have our outdoor seating set up. (Keep those fingers crossed!) \nWe’re proud to be Wisconsin’s only certified organic brewery\, so come see what our BIG beers are all about b/c we brew big beers for EVERYONE!
URL:https://giantjones.com/event/great-taste-eve-at-giant-jones/
LOCATION:Giant Jones Brewing Company\, 931 E Main St.\, Madison\, WI\, 53703\, United States
END:VEVENT
BEGIN:VEVENT
DTSTART;TZID=UTC:20250816T170000
DTEND;TZID=UTC:20250816T210000
DTSTAMP:20260420T214001
CREATED:20250811T180130Z
LAST-MODIFIED:20250811T180130Z
UID:7012-1755363600-1755378000@giantjones.com
SUMMARY:"Courage" Opening Reception by Kate Olsen Birner
DESCRIPTION:We’ve got new art hanging on our walls from Kate Olsen Birner! Their work will be showcased here at Giant Jones through 9/14. \nKate is a visual artist based in southwestern Wisconsin. Their skills and specialties include\, but are not limited to: portraits\, painting\, bottle cap mosaics\, collage\, mixed media and large-scale work. \nThey have been a working artist since college and an art educator for 35 years. \nTheir use of color and pattern is heavily influenced by the pre-Columbian and Native Peruvian (Quechua) artwork to which they were exposed as a child. \nStop by to meet the artist and check out their show “Courage”. There will also be live music from SoaringTortoise!
URL:https://giantjones.com/event/courage-opening-reception-by-kate-olsen-birner/
LOCATION:Giant Jones Brewing Company\, 931 E Main St.\, Madison\, WI\, 53703\, United States
END:VEVENT
BEGIN:VEVENT
DTSTART;TZID=UTC:20250822T163000
DTEND;TZID=UTC:20250822T183000
DTSTAMP:20260420T214001
CREATED:20250729T191932Z
LAST-MODIFIED:20250729T191932Z
UID:6958-1755880200-1755887400@giantjones.com
SUMMARY:Giant Jones Beer Tasting at Star Liquor
DESCRIPTION:  \n \nOur friends at Star Liquor always keep our beer in stock. We will be pouring free beer samples for you to “try before you buy” so you can stock up for the weekend!
URL:https://giantjones.com/event/giant-jones-beer-tasting-at-star-liquor/
LOCATION:Star Liquor\, 1209 Williamson St.\, Madison\, WI\, United States
END:VEVENT
BEGIN:VEVENT
DTSTART;TZID=UTC:20250828T190000
DTEND;TZID=UTC:20250828T200000
DTSTAMP:20260420T214001
CREATED:20250729T192500Z
LAST-MODIFIED:20250804T195607Z
UID:6961-1756407600-1756411200@giantjones.com
SUMMARY:Big Beers\, Bangin' Books - Amnesia
DESCRIPTION:It’s the last Thursday of the month so calling all romance reading fans!!! Big Beers\, Bangin’ Books happens every month. The group selects a common romance trope\, then reads any romance book that features the chosen topic. Our discussion is led by Amy & Erika\, and is open to anyone who loves reading romance! \nAugust’s trope is Amnesia in which memories are lost & love is found! \nSuggested Readings: \n\n10 Things That Never Happened by Alexis Hall\nAsher by Carian Cole\nBarbarian’s Heart by Ruby Dixon\nA Cowboy to Remember by Rebekah Weatherspoon\nThe Duke with the Dragon Tattoo by Kerrigan Byrne\nAn Earl\, the Girl\, and the Toddler by Vanessa Riley\nAn Earl to Remember by Stacy Reid\nA Lady’s Code of Misconduct by Meredith Duran\nLove Will Always Remember by Tracey Livesay\nTempting the Bride by Sherry Thomas
URL:https://giantjones.com/event/big-beers-bangin-books-amnesia/
LOCATION:Giant Jones Brewing Company\, 931 E Main St.\, Madison\, WI\, 53703\, United States
END:VEVENT
END:VCALENDAR