BEGIN:VCALENDAR
VERSION:2.0
PRODID:-//Giant Jones Brewing Company - ECPv6.15.12.2//NONSGML v1.0//EN
CALSCALE:GREGORIAN
METHOD:PUBLISH
X-ORIGINAL-URL:https://giantjones.com
X-WR-CALDESC:Events for Giant Jones Brewing Company
REFRESH-INTERVAL;VALUE=DURATION:PT1H
X-Robots-Tag:noindex
X-PUBLISHED-TTL:PT1H
BEGIN:VTIMEZONE
TZID:UTC
BEGIN:STANDARD
TZOFFSETFROM:+0000
TZOFFSETTO:+0000
TZNAME:UTC
DTSTART:20230101T000000
END:STANDARD
END:VTIMEZONE
BEGIN:VEVENT
DTSTART;TZID=UTC:20241002T160000
DTEND;TZID=UTC:20241002T200000
DTSTAMP:20260421T201702
CREATED:20240919T210743Z
LAST-MODIFIED:20240919T210743Z
UID:5906-1727884800-1727899200@giantjones.com
SUMMARY:Pizza Night w/ORIGIN Breads
DESCRIPTION:Every Wednesday we team up with our neighbors down the hall at ORIGIN Breads for a Pizza Night! ORIGIN makes the pies and we supply the dining area in our tasting room. They have also added assorted baked cookies/brownies & a seasonal salad for you to enjoy as well. You can then eat your dinner and have some beer here. \nPre-Order from ORIGIN’s website\, select a “pick-up” time\, and show up at our tasting room on Wednesday. When the pizzas are ready\, they will be brought to our tasting room so listen for your name when called. \nYou can also order directly from your phone when you get here. \nThere is no reserved seating\, tables are first come first serve so plan accordingly! \nOur tasting room is open 4pm-8pm; pizzas start at 5pm.
URL:https://giantjones.com/event/pizza-night-w-origin-breads-88/
LOCATION:Giant Jones Brewing Company\, 931 E Main St.\, Madison\, WI\, 53703\, United States
END:VEVENT
BEGIN:VEVENT
DTSTART;TZID=UTC:20241004T170000
DTEND;TZID=UTC:20241004T210000
DTSTAMP:20260421T201702
CREATED:20240919T185532Z
LAST-MODIFIED:20240919T190307Z
UID:5901-1728061200-1728075600@giantjones.com
SUMMARY:Gallery Night - TL Luke Art Opening
DESCRIPTION:  \nT.L. Luke is a professional illustrator providing printed goods\, custom commission services\, and art. We’re excited to have their political comics on display here in the Giant Jones Tasting Room. \nJoin us & the artist for the opening night of “Let Auntie Luke Explain!” TL Luke wants to help you understand politics so you can feel empowered to vote! \nGrab a beer\, wine &/or soda and read the amazing comics hanging on our walls. AND if you fancy\, you can purchase some artwork too! \nThis opening also falls on Madison’s city-wide Gallery Night\, so add Giant Jones to your list of places to visit that evening!
URL:https://giantjones.com/event/gallery-night-tl-luke-art-opening/
LOCATION:Giant Jones Brewing Company\, 931 E Main St.\, Madison\, WI\, 53703\, United States
END:VEVENT
BEGIN:VEVENT
DTSTART;TZID=UTC:20241009T160000
DTEND;TZID=UTC:20241009T200000
DTSTAMP:20260421T201702
CREATED:20240919T210950Z
LAST-MODIFIED:20240919T210950Z
UID:5908-1728489600-1728504000@giantjones.com
SUMMARY:Pizza Night w/ORIGIN Breads
DESCRIPTION:Every Wednesday we team up with our neighbors down the hall at ORIGIN Breads for a Pizza Night! ORIGIN makes the pies and we supply the dining area in our tasting room. They have also added assorted baked cookies/brownies & a seasonal salad for you to enjoy as well. You can then eat your dinner and have some beer here. \nPre-Order from ORIGIN’s website\, select a “pick-up” time\, and show up at our tasting room on Wednesday. When the pizzas are ready\, they will be brought to our tasting room so listen for your name when called. \nYou can also order directly from your phone when you get here. \nThere is no reserved seating\, tables are first come first serve so plan accordingly! \nOur tasting room is open 4pm-8pm; pizzas start at 5pm.
URL:https://giantjones.com/event/pizza-night-w-origin-breads-89/
LOCATION:Giant Jones Brewing Company\, 931 E Main St.\, Madison\, WI\, 53703\, United States
END:VEVENT
BEGIN:VEVENT
DTSTART;TZID=UTC:20241011T170000
DTEND;TZID=UTC:20241011T210000
DTSTAMP:20260421T201702
CREATED:20241010T155043Z
LAST-MODIFIED:20241010T155043Z
UID:5965-1728666000-1728680400@giantjones.com
SUMMARY:Tone Madison Office Hours
DESCRIPTION:Come hang out with Tone Madison’s staff and freelancers at our first Office Hours event of 2024! They’ll be gathering at one of their favorite local spots\, Giant Jones Brewing Company\, to talk with their readers and share Tone Madison swag like shirts\, koozies\, stickers\, and more.\n\nTone loves getting to meet their readers face-to-face\, so come on by with any feedback\, questions\, or suggestions. Help Tone continue engaging with their invaluable audience as a fiercely independent local publication.
URL:https://giantjones.com/event/tone-madison-office-hours-2/
LOCATION:Giant Jones Brewing Company\, 931 E Main St.\, Madison\, WI\, 53703\, United States
END:VEVENT
BEGIN:VEVENT
DTSTART;TZID=UTC:20241016T160000
DTEND;TZID=UTC:20241016T200000
DTSTAMP:20260421T201702
CREATED:20240919T211206Z
LAST-MODIFIED:20240919T211206Z
UID:5910-1729094400-1729108800@giantjones.com
SUMMARY:Pizza Night w/ORIGIN Breads
DESCRIPTION:  \nEvery Wednesday we team up with our neighbors down the hall at ORIGIN Breads for a Pizza Night! ORIGIN makes the pies and we supply the dining area in our tasting room. They have also added assorted baked cookies/brownies & a seasonal salad for you to enjoy as well. You can then eat your dinner and have some beer here. \nPre-Order from ORIGIN’s website\, select a “pick-up” time\, and show up at our tasting room on Wednesday. When the pizzas are ready\, they will be brought to our tasting room so listen for your name when called. \nYou can also order directly from your phone when you get here. \nThere is no reserved seating\, tables are first come first serve so plan accordingly! \nOur tasting room is open 4pm-8pm; pizzas start at 5pm.
URL:https://giantjones.com/event/pizza-night-w-origin-breads-90/
LOCATION:Giant Jones Brewing Company\, 931 E Main St.\, Madison\, WI\, 53703\, United States
END:VEVENT
BEGIN:VEVENT
DTSTART;TZID=UTC:20241016T183000
DTEND;TZID=UTC:20241016T200000
DTSTAMP:20260421T201702
CREATED:20240926T204547Z
LAST-MODIFIED:20241015T175027Z
UID:5937-1729103400-1729108800@giantjones.com
SUMMARY:Get Out & Vote Mix & Mingle Event
DESCRIPTION:With election day coming up we want to make sure everyone is informed & ready to vote!\n\nStop by and see our latest artwork covering our walls: “Democracy on the Walls” – Comics by T.L. Luke. Get engaged in Democracy with this informative and empowering show featuring local and national political cartoons.\n\nMix & Mingle with former Lieutenant Governor Mandela Barns\, State Representative Francesca Hong & Dane County Executive candidate Dana Pellebon and learn about upcoming ballot issues and candidates!\n\nHear from our guests about what issues they are working on and how you can get involved!\n\nOur weekly Pizza Night will be happening as well! Grab some dinner\, grab a beer & get ready to VOTE November 5th 2024!!!!
URL:https://giantjones.com/event/get-out-vote-mix-mingle-event/
LOCATION:Giant Jones Brewing Company\, 931 E Main St.\, Madison\, WI\, 53703\, United States
END:VEVENT
BEGIN:VEVENT
DTSTART;TZID=UTC:20241024T190000
DTEND;TZID=UTC:20241024T200000
DTSTAMP:20260421T201702
CREATED:20240927T182057Z
LAST-MODIFIED:20240927T182057Z
UID:5940-1729796400-1729800000@giantjones.com
SUMMARY:Big Beers\, Bangin' Books - Halloween Romances
DESCRIPTION:  \nJoin us for our monthly romance trope book discussion! Each month we select a different romance trope then you read a book or books that you feel showcase said trope. \nThis month our group has selected “romances w/Halloween vibes”. Vamps\, shifters\, monsters\, witches etc….. \nThis discussion will be led by Amy & our very own Erika Jones. Our monthly romance book discussion if open to any book lover\, all are welcome! \nSuggested readings: \nBride by Ali Hazelwood \nHappy Medium by Sarah Adler \nHaunted Ever After by Jen DeLuca \nHeartless Hunter by Kristen Ciccarelli \nRules for Ghosting by Shelly Jay Shore \nSing Sweet Nightingale by Rebecca Rennick \nThe Witch Queen of Halloween by Kresley Cole
URL:https://giantjones.com/event/big-beers-bangin-books-halloween-romances/
LOCATION:Giant Jones Brewing Company\, 931 E Main St.\, Madison\, WI\, 53703\, United States
END:VEVENT
BEGIN:VEVENT
DTSTART;TZID=UTC:20241025T170000
DTEND;TZID=UTC:20241025T210000
DTSTAMP:20260421T201702
CREATED:20241017T193637Z
LAST-MODIFIED:20241018T190150Z
UID:5988-1729875600-1729890000@giantjones.com
SUMMARY:"Raíces en Color" Art Opening
DESCRIPTION:“Raíces en Color” (Roots in Color) is a collaborative art show by Rodrigo Carapia and Issis Macías that vividly celebrates the connection between Mexican heritage\, culture\, and identity. This exhibition showcases their complete body of collaborative work\, merging Macías’ emotive abstract compositions with Carapia’s vibrant imagery\, celebrating the rich cultural landscape of Mexico. The show explores themes of migration\, transformation\, resilience\, and love\, using color as a powerful symbol for the complexity and vibrancy of cultural identity. Through this collaborative process—where each artist works independently and without consultation—their distinct styles intertwine to create a dynamic visual dialogue that invites viewers to connect with both personal and collective histories rooted in culture and heritage. \nJoin us for the opening night! Grab a beer\, meet the artists and maybe buy some local art! \nAbout the artists: \nIssis Macias\, a self-taught artist and daughter of Mexican immigrants\, was born and raised in Los Angeles\, California. Her creative journey is deeply connected to her community and the diverse artists she has met. In 2020\, amid the uncertainty of the Covid-19 pandemic and a major career shift\, Macias became a new mother. Embracing her art with renewed passion\, she used creativity as a means to navigate and heal during these challenging times. Her intuitive painting practice produces vibrant\, emotive compositions where color\, shapes\, and lines mirror the journey of life. Currently based in Madison\, Wisconsin\, Macias remains closely tied to Los Angeles. \nRodrigo Carapia Art is a self-taught artist who originates from Mexico City. He first began with\nstreet art\, which allowed him to experiment with his art on bigger scales. When he moved to the\nUnited States he began to perfect his art on canvas and paper. Once his brush touches the\ncanvas the work he portrays becomes an epitome of his rich Mexa culture. Now\, as an artist Mr. Carapia uses his work as a form of self-expression and resistance through offering art workshops in schools\,  juvenile correctional centers\, which has given the youth a form of expression and a sense of freedom. His work has also been donated to grassroots organizations that help the undocumented community- and workers unions. You might spot his art around Wisconsin in murals\, restaurants\, and in several showcases.
URL:https://giantjones.com/event/raices-en-color-art-opening/
LOCATION:Giant Jones Brewing Company\, 931 E Main St.\, Madison\, WI\, 53703\, United States
END:VEVENT
BEGIN:VEVENT
DTSTART;TZID=UTC:20241025T193000
DTEND;TZID=UTC:20241025T210000
DTSTAMP:20260421T201702
CREATED:20241017T195202Z
LAST-MODIFIED:20241017T195202Z
UID:5993-1729884600-1729890000@giantjones.com
SUMMARY:Wonderporium Album Release Party
DESCRIPTION:  \nThe Wonderporium presents an evening of improvised electronic music to celebrate the release of their debut album\, Two Impromptus. \n“Two Impromptus” features two long-form improvisations they recorded in the midst of a January snowstorm. The end result is at once patient and cinematic\, glacial and hyper-eclectic. As these explorations unfold\, the scenes set themselves: barren midwest tundras\, fire-lit parlors\, mountainside temples\, abandoned Cold War radar stations\, a celebration of the end times. \nWe’re so excited to be hosting our talented friends. They will perform 1\, maybe 2 sets of amazing music for you to enjoy. This event is FREE\, just pay for any food or beverages.
URL:https://giantjones.com/event/wonderporium-album-release-party/
LOCATION:Giant Jones Brewing Company\, 931 E Main St.\, Madison\, WI\, 53703\, United States
END:VEVENT
BEGIN:VEVENT
DTSTART;TZID=UTC:20241030T160000
DTEND;TZID=UTC:20241030T200000
DTSTAMP:20260421T201702
CREATED:20240919T212923Z
LAST-MODIFIED:20240919T212923Z
UID:5914-1730304000-1730318400@giantjones.com
SUMMARY:Pizza Night w/ORIGIN Breads
DESCRIPTION:  \nEvery Wednesday we team up with our neighbors down the hall at ORIGIN Breads for a Pizza Night! ORIGIN makes the pies and we supply the dining area in our tasting room. They have also added assorted baked cookies/brownies & a seasonal salad for you to enjoy as well. You can then eat your dinner and have some beer here. \nPre-Order from ORIGIN’s website\, select a “pick-up” time\, and show up at our tasting room on Wednesday. When the pizzas are ready\, they will be brought to our tasting room so listen for your name when called. \nYou can also order directly from your phone when you get here. \nThere is no reserved seating\, tables are first come first serve so plan accordingly! \nOur tasting room is open 4pm-8pm; pizzas start at 5pm.
URL:https://giantjones.com/event/pizza-night-w-origin-breads-92/
LOCATION:Giant Jones Brewing Company\, 931 E Main St.\, Madison\, WI\, 53703\, United States
END:VEVENT
BEGIN:VEVENT
DTSTART;TZID=UTC:20241031T160000
DTEND;TZID=UTC:20241031T200000
DTSTAMP:20260421T201702
CREATED:20240924T214406Z
LAST-MODIFIED:20241011T182639Z
UID:5924-1730390400-1730404800@giantjones.com
SUMMARY:Giant Jones Halloween Costume Party
DESCRIPTION:  \n \nWe love dressing up\, so let’s have a costume party on Halloween!!! \nWe want to see your fabulous costumes too. AND if you come dressed as your favorie Giant Jones Character (see all of our amazing labels) you will get a FREE GJ Beer! \nWe’ll have the music pumping\, the disco light spinning AND other fun treats. \nWe’ll be open 4pm-8pm so come join in on the festivities!!! \n 
URL:https://giantjones.com/event/giant-jones-halloween-party/
LOCATION:Giant Jones Brewing Company\, 931 E Main St.\, Madison\, WI\, 53703\, United States
END:VEVENT
END:VCALENDAR