BEGIN:VCALENDAR
VERSION:2.0
PRODID:-//Giant Jones Brewing Company - ECPv6.15.12.2//NONSGML v1.0//EN
CALSCALE:GREGORIAN
METHOD:PUBLISH
X-ORIGINAL-URL:https://giantjones.com
X-WR-CALDESC:Events for Giant Jones Brewing Company
REFRESH-INTERVAL;VALUE=DURATION:PT1H
X-Robots-Tag:noindex
X-PUBLISHED-TTL:PT1H
BEGIN:VTIMEZONE
TZID:UTC
BEGIN:STANDARD
TZOFFSETFROM:+0000
TZOFFSETTO:+0000
TZNAME:UTC
DTSTART:20230101T000000
END:STANDARD
END:VTIMEZONE
BEGIN:VEVENT
DTSTART;TZID=UTC:20240615T140000
DTEND;TZID=UTC:20240615T210000
DTSTAMP:20260422T032627
CREATED:20240429T212416Z
LAST-MODIFIED:20240612T173241Z
UID:5394-1718460000-1718485200@giantjones.com
SUMMARY:Giant Jones 6th Anniversary Celebration!
DESCRIPTION:Holy moly you’ve been drinking Giant Jones beer for six years! You should come celebrate…\n\nJoin us on the actual 6th anniversary of our tasting room being open. Many changes have happened to our spot since we opened our doors…\n\nWe will be tapping a brand new beer for this occasion; Birra di Pane Forte and for every glass you get of this new one you’ll be entered to win some GJ beer & swag in our raffle drawings!\n\nWe will have snacks from ORIGIN Breads & Bunky’s for you. AND we’re running a special Retro Bottle Deal:
URL:https://giantjones.com/event/giant-jones-6th-anniversary-celebration/
LOCATION:Giant Jones Brewing Company\, 931 E Main St.\, Madison\, WI\, 53703\, United States
END:VEVENT
BEGIN:VEVENT
DTSTART;TZID=UTC:20240629T140000
DTEND;TZID=UTC:20240629T210000
DTSTAMP:20260422T032627
CREATED:20240619T180341Z
LAST-MODIFIED:20240625T190815Z
UID:5553-1719669600-1719694800@giantjones.com
SUMMARY:Wine Tasting Party w/American Wine Project
DESCRIPTION:If you haven’t heard\, Giant Jones Brewing now serves wine. And not just any wine\, exclusively wine from Mineral Point’s American Wine Project. \nJoin us as we celebrate\, with AWP owner Erin\, as we launch our new partnership with AWP in our tasting room. \nCome by to enjoy 8 different wines from AWP & meet Erin. You can enjoy a wine tasting or purchase any of the wines by the glass. \nOur friends from The Deliciouser will have a tasty menu that will pair well with AWP wine for you to enjoy as well. \nWeather permitting our outside tables will be available too! \nAs always we will have our beers flowing. \nLet’s eat\, drink & be merry!!!
URL:https://giantjones.com/event/wine-tasting-party-w-american-wine-project/
LOCATION:Giant Jones Brewing Company\, 931 E Main St.\, Madison\, WI\, 53703\, United States
END:VEVENT
END:VCALENDAR