BEGIN:VCALENDAR
VERSION:2.0
PRODID:-//Giant Jones Brewing Company - ECPv6.15.12.2//NONSGML v1.0//EN
CALSCALE:GREGORIAN
METHOD:PUBLISH
X-WR-CALNAME:Giant Jones Brewing Company
X-ORIGINAL-URL:https://giantjones.com
X-WR-CALDESC:Events for Giant Jones Brewing Company
REFRESH-INTERVAL;VALUE=DURATION:PT1H
X-Robots-Tag:noindex
X-PUBLISHED-TTL:PT1H
BEGIN:VTIMEZONE
TZID:UTC
BEGIN:STANDARD
TZOFFSETFROM:+0000
TZOFFSETTO:+0000
TZNAME:UTC
DTSTART:20230101T000000
END:STANDARD
END:VTIMEZONE
BEGIN:VEVENT
DTSTART;TZID=UTC:20240530T190000
DTEND;TZID=UTC:20240530T200000
DTSTAMP:20260422T044302
CREATED:20240429T212144Z
LAST-MODIFIED:20240430T220741Z
UID:5391-1717095600-1717099200@giantjones.com
SUMMARY:Big Beers\, Bangin' Books - Mafia Romance
DESCRIPTION:It’s the last Thursday of the month\, which means it’s another Big Beers\, Bangin’ Books! \nSuper romance reader Amy\, and friend of GJ\, will be leading the discussion. Our trope topic is Mafia Romance\, in which at least one of our protagonists is with the mafia. \nGrab a big beer & chat away with other like minded readers. \nSuggested books that fit this topic:\nBrutal Prince by Sophie Lark\nThe Devil of Downtown by Joanna Shupe\nDevil of Dublin by B.B. Easton\nThe Maddest Obsession by Danielle Lori\nMafia Target by Mila Finelli\nNico by Sarah Castille\nThe Professional by Kresley Cole\nRuthless Creatures by J.T. Geissinger\nTerrible Beauty by Anna Zaires
URL:https://giantjones.com/event/big-beers-bangin-books-mafia-romance/
LOCATION:Giant Jones Brewing Company\, 931 E Main St.\, Madison\, WI\, 53703\, United States
END:VEVENT
END:VCALENDAR