BEGIN:VCALENDAR
VERSION:2.0
PRODID:-//Giant Jones Brewing Company - ECPv6.15.12.2//NONSGML v1.0//EN
CALSCALE:GREGORIAN
METHOD:PUBLISH
X-WR-CALNAME:Giant Jones Brewing Company
X-ORIGINAL-URL:https://giantjones.com
X-WR-CALDESC:Events for Giant Jones Brewing Company
REFRESH-INTERVAL;VALUE=DURATION:PT1H
X-Robots-Tag:noindex
X-PUBLISHED-TTL:PT1H
BEGIN:VTIMEZONE
TZID:UTC
BEGIN:STANDARD
TZOFFSETFROM:+0000
TZOFFSETTO:+0000
TZNAME:UTC
DTSTART:20240101T000000
END:STANDARD
END:VTIMEZONE
BEGIN:VEVENT
DTSTART;TZID=UTC:20250516T170000
DTEND;TZID=UTC:20250516T210000
DTSTAMP:20260421T023017
CREATED:20250429T174423Z
LAST-MODIFIED:20250516T175807Z
UID:6694-1747414800-1747429200@giantjones.com
SUMMARY:Spring Gallery Night
DESCRIPTION:  \nGallery Night is a long-time Madison arts tradition that showcases the city’s vibrant arts community. Organized by MMoCA\, Gallery Night offers art lovers and art novices alike an opportunity to enjoy a wide variety of exhibitions\, opening receptions\, special events\, and demonstrations at venues throughout the city. During Gallery Night\, dozens of venues open their doors to invite the public in to see and shop for original artwork. \nWe are one of the stops for the annual event. Come grab a beer or wine or whatever your beverage of choice may be and check out some art! \nWe will be showing work from TD Brenner. \nWisconsin artist TD Brenner draws inspiration from everyday life blending modern art influences with naïve and primitive styles. He works in series to refine his visual language\, using objects\, animals\, and people to capture the essence of the Midwest experience. \nHe has a BFA from the University of Wisconsin – Oshkosh\, and an MFA from the University of Wisconsin – Madison\, and is currently living and working in the Madison area.
URL:https://giantjones.com/event/spring-gallery-night-2/
LOCATION:Giant Jones Brewing Company\, 931 E Main St.\, Madison\, WI\, 53703\, United States
END:VEVENT
END:VCALENDAR