BEGIN:VCALENDAR
VERSION:2.0
PRODID:-//Giant Jones Brewing Company - ECPv6.15.12.2//NONSGML v1.0//EN
CALSCALE:GREGORIAN
METHOD:PUBLISH
X-WR-CALNAME:Giant Jones Brewing Company
X-ORIGINAL-URL:https://giantjones.com
X-WR-CALDESC:Events for Giant Jones Brewing Company
REFRESH-INTERVAL;VALUE=DURATION:PT1H
X-Robots-Tag:noindex
X-PUBLISHED-TTL:PT1H
BEGIN:VTIMEZONE
TZID:UTC
BEGIN:STANDARD
TZOFFSETFROM:+0000
TZOFFSETTO:+0000
TZNAME:UTC
DTSTART:20230101T000000
END:STANDARD
END:VTIMEZONE
BEGIN:VEVENT
DTSTART;TZID=UTC:20240713T130000
DTEND;TZID=UTC:20240713T220000
DTSTAMP:20260422T053722
CREATED:20240626T193017Z
LAST-MODIFIED:20240709T203656Z
UID:5568-1720875600-1720908000@giantjones.com
SUMMARY:GJ Lagniappe Stage for La Fete de Marquette
DESCRIPTION:It’s everyone’s favorite summer festival weekend\, and Giant Jones is back with our Lagniappe Stage! \nJoin us on Saturday 7/13 for Local Music & Circus Variety Show!\nHere’s our lineup: \nOutdoor Games 1pm-3:30pm\nLeslie Damaso & Mr. Chair 3:30pm-4:30pm \nFilipino American artist\, Leslie Damaso will perform from SIRENA\, with Mr. Chair. SIRENA is an operatic stage work created by Damaso\, Jason Kutz (piano)\, Mike Koszewski (drums) and Ben Ferris (bass). The album is soon to be released on June 30th. The music includes traditional Filipino kundiman songs and kulintang gongs. It sounds like jazz\, it sounds like classical\, for sure it is a spectacular celebration of community! \nMr. Chair 5pm-6pm \nMr. Chair looks like a jazz combo\, enchants like a string quartet\, and electrifies like a rock band\, all while delighting listeners with their fresh and authentic sound. As classically-trained musicians well-versed in jazz\, electronics\, prog rock\, world music and beyond\, Mr. Chair is a contemporary fusion ensemble for music fans of all backgrounds. Their sound palette is diverse\, and used to tell stories in styles cinematic\, surreal\, romantic\, funky\, and whimsical. \nLovely Socialite 6:30pm-7:30pm \nWater & Fire Circus Arts Spectacular with Elemental Aerial Arts 8pm-10pm \nFormed in Madison Wisconsin\, Elemental Aerial Arts connects performance with the natural world. Creating unique aerial and circus arts inspired by air\, earth\, water and fire-each show is meant to connect the audience with each other and to the beauty of the world around them. \n“Water & Fire: an intricate balance of elemental powers” is a two part show that is family friendly and free to the public. Starting at 8 pm\, the show explores the qualities of water through dance\, acrobatics\, aerial arts\, and flow arts. Unique acts to spark imagination and front row splash zone seats for a fully immersive experience. Then at sunset the flames are lit and the show transforms into a powerful dance of fire\, with circus acts of all disciplines harnessing and connecting with primal flames and fire elementals. “Water & Fire” brings forces to life beautifully\, drawing the audience into the magic while showcasing the intricate balance of power within and around ourselves. \nFor more information about La Fete de Marquette visit their website: \nHome
URL:https://giantjones.com/event/gj-langiappe-stage-for-la-fete-de-marquette-2/
LOCATION:Giant Jones Brewing Company\, 931 E Main St.\, Madison\, WI\, 53703\, United States
END:VEVENT
BEGIN:VEVENT
DTSTART;TZID=UTC:20240714T130000
DTEND;TZID=UTC:20240714T190000
DTSTAMP:20260422T053722
CREATED:20240626T193330Z
LAST-MODIFIED:20240709T204020Z
UID:5572-1720962000-1720983600@giantjones.com
SUMMARY:GJ Lagniappe Stage for La Fete de Marquette
DESCRIPTION:  \nIt’s everyone’s favorite summer festival weekend\, and Giant Jones is back with our Lagniappe Stage! \nJoin us Sunday 7/14 for an Eclectic Dance Party!\nHere’s our lineup: \nOutdoor Games 1pm-2:30pm \nThe Stop & Listen 2:30pm-3:30pm \nA one-of-a-kind combination of instruments and voices\, the Stop & Listen plays killer old-time fiddle tunes\, stompin’ jug band blues and more\, infusing traditional styles with high-energy fun. \nRebulú Group Music & Dance 4pm-5:30pm \nREBULU is made up of 9 musicians and it is a band in the mold of a classic Cuban conjunto with a twist. It’s sound is a deft\, tight\, soulful blend of Cuban\, Puerto Rican\, and African diaspora grooves topped with powerful lead and harmony vocals. Rebulu’s repertoire includes classics of the genre as well as originals that bring in elements of pop and rock. Formed in early 2019\, the group has already garnered an impressive buzz in the Madison salsa scene and is guaranteed to keep the dance floor hoppin. \nThe Earthlings 6pm-7pm \n“There are so many moving parts in this band that it all seems to be moving together very smoothly. Great flow\, I love your vibe. You guys are having a good time\, and it always is an adventure. These songs…I love them!” – Jonathan Sutton\, 105.5 Triple M Radio Madison. \nFor more information about La Fete de Marquette check out their website: \nHome
URL:https://giantjones.com/event/gj-langiappe-stage-for-la-fete-de-marquette-3/
LOCATION:Giant Jones Brewing Company\, 931 E Main St.\, Madison\, WI\, 53703\, United States
END:VEVENT
END:VCALENDAR