BEGIN:VCALENDAR
VERSION:2.0
PRODID:-//Giant Jones Brewing Company - ECPv6.15.12.2//NONSGML v1.0//EN
CALSCALE:GREGORIAN
METHOD:PUBLISH
X-ORIGINAL-URL:https://giantjones.com
X-WR-CALDESC:Events for Giant Jones Brewing Company
REFRESH-INTERVAL;VALUE=DURATION:PT1H
X-Robots-Tag:noindex
X-PUBLISHED-TTL:PT1H
BEGIN:VTIMEZONE
TZID:UTC
BEGIN:STANDARD
TZOFFSETFROM:+0000
TZOFFSETTO:+0000
TZNAME:UTC
DTSTART:20230101T000000
END:STANDARD
END:VTIMEZONE
BEGIN:VEVENT
DTSTART;TZID=UTC:20240403T160000
DTEND;TZID=UTC:20240403T200000
DTSTAMP:20260422T144232
CREATED:20240327T184604Z
LAST-MODIFIED:20240327T184604Z
UID:5258-1712160000-1712174400@giantjones.com
SUMMARY:Pizza Night w/ ORIGIN Breads
DESCRIPTION:  \nEvery Wednesday we team up with our neighbors down the hall at ORIGIN Breads for a Pizza Night! ORIGIN makes the pies and we supply the dining area in our tasting room. You can then enjoy your pizza and have some beer here. \nPre-Order from ORIGIN’s website\, select a “pick-up” time\, and show up at our tasting room on Wednesday. When the pizzas are ready\, they will be brought to our tasting room so listen for your name when called. \nYou can also order directly from your phone when you get here. \nThere is no reserved seating\, tables are first come first serve so plan accordingly! \nOur tasting room is open 4pm-8pm; pizzas start at 5pm.
URL:https://giantjones.com/event/pizza-night-w-origin-breads-65/
LOCATION:Giant Jones Brewing Company\, 931 E Main St.\, Madison\, WI\, 53703\, United States
END:VEVENT
BEGIN:VEVENT
DTSTART;TZID=UTC:20240410T160000
DTEND;TZID=UTC:20240410T200000
DTSTAMP:20260422T144232
CREATED:20240327T184908Z
LAST-MODIFIED:20240327T184908Z
UID:5260-1712764800-1712779200@giantjones.com
SUMMARY:Pizza Night w/ ORIGIN Breads
DESCRIPTION:  \nEvery Wednesday we team up with our neighbors down the hall at ORIGIN Breads for a Pizza Night! ORIGIN makes the pies and we supply the dining area in our tasting room. You can then enjoy your pizza and have some beer here. \nPre-Order from ORIGIN’s website\, select a “pick-up” time\, and show up at our tasting room on Wednesday. When the pizzas are ready\, they will be brought to our tasting room so listen for your name when called. \nYou can also order directly from your phone when you get here. \nThere is no reserved seating\, tables are first come first serve so plan accordingly! \nOur tasting room is open 4pm-8pm; pizzas start at 5pm.
URL:https://giantjones.com/event/pizza-night-w-origin-breads-66/
LOCATION:Giant Jones Brewing Company\, 931 E Main St.\, Madison\, WI\, 53703\, United States
END:VEVENT
BEGIN:VEVENT
DTSTART;TZID=UTC:20240417T160000
DTEND;TZID=UTC:20240417T200000
DTSTAMP:20260422T144232
CREATED:20240327T185138Z
LAST-MODIFIED:20240327T185138Z
UID:5262-1713369600-1713384000@giantjones.com
SUMMARY:Pizza Night w/ORIGIN Breads
DESCRIPTION:  \nEvery Wednesday we team up with our neighbors down the hall at ORIGIN Breads for a Pizza Night! ORIGIN makes the pies and we supply the dining area in our tasting room. You can then enjoy your pizza and have some beer here. \nPre-Order from ORIGIN’s website\, select a “pick-up” time\, and show up at our tasting room on Wednesday. When the pizzas are ready\, they will be brought to our tasting room so listen for your name when called. \nYou can also order directly from your phone when you get here. \nThere is no reserved seating\, tables are first come first serve so plan accordingly! \nOur tasting room is open 4pm-8pm; pizzas start at 5pm.
URL:https://giantjones.com/event/pizza-night-w-origin-breads-67/
LOCATION:Giant Jones Brewing Company\, 931 E Main St.\, Madison\, WI\, 53703\, United States
END:VEVENT
BEGIN:VEVENT
DTSTART;TZID=UTC:20240424T160000
DTEND;TZID=UTC:20240424T200000
DTSTAMP:20260422T144232
CREATED:20240327T185311Z
LAST-MODIFIED:20240327T185311Z
UID:5264-1713974400-1713988800@giantjones.com
SUMMARY:Pizza Night w/ ORIGIN Breads
DESCRIPTION:  \nEvery Wednesday we team up with our neighbors down the hall at ORIGIN Breads for a Pizza Night! ORIGIN makes the pies and we supply the dining area in our tasting room. You can then enjoy your pizza and have some beer here. \nPre-Order from ORIGIN’s website\, select a “pick-up” time\, and show up at our tasting room on Wednesday. When the pizzas are ready\, they will be brought to our tasting room so listen for your name when called. \nYou can also order directly from your phone when you get here. \nThere is no reserved seating\, tables are first come first serve so plan accordingly! \nOur tasting room is open 4pm-8pm; pizzas start at 5pm.
URL:https://giantjones.com/event/pizza-night-w-origin-breads-68/
LOCATION:WI
END:VEVENT
BEGIN:VEVENT
DTSTART;TZID=UTC:20240425T160000
DTEND;TZID=UTC:20240425T200000
DTSTAMP:20260422T144232
CREATED:20240418T222609Z
LAST-MODIFIED:20240418T222823Z
UID:5366-1714060800-1714075200@giantjones.com
SUMMARY:SapSap Eats Pop-Up
DESCRIPTION:Yum\, yum\, and yum…\nOur friends from SapSap provide innovative Lao-inspired cuisine and premier grocery products\, bridging traditional fare with a flare. They will be setting up shop here in our tasting room serving some delicious eats for you to enjoy along side our beers.\nTasting room is open 4pm-8pm; pop-up will be 4:30pm-7:30pm.\nCheers to tasting food & beer!!!
URL:https://giantjones.com/event/sap-sap-eats-pop-up/
LOCATION:Giant Jones Brewing Company\, 931 E Main St.\, Madison\, WI\, 53703\, United States
END:VEVENT
BEGIN:VEVENT
DTSTART;TZID=UTC:20240426T160000
DTEND;TZID=UTC:20240426T210000
DTSTAMP:20260422T144232
CREATED:20240418T215557Z
LAST-MODIFIED:20240418T215557Z
UID:5363-1714147200-1714165200@giantjones.com
SUMMARY:National Pretzel Day w/ORIGIN Breads
DESCRIPTION:We all love our pizza nights with ORIGIN Breads. Well did you know they make some tasty pretzels? \nJoin us on Friday 4/26 which is National Pretzel Day! We will be serving ORIGIN Breads big pretzels all evening (while supplies last). The perfect combo & snack; pretzels & Giant Jones beer. \nWe  even have a suggested pairing flight to go with your pretzel: \nAntwerps Gerstebier\, Canadian-Style Spruce Beer\, Dark Weizenbock & Ryewine \n 
URL:https://giantjones.com/event/national-pretzel-day-w-origin-breads/
LOCATION:Giant Jones Brewing Company\, 931 E Main St.\, Madison\, WI\, 53703\, United States
END:VEVENT
END:VCALENDAR