BEGIN:VCALENDAR
VERSION:2.0
PRODID:-//Giant Jones Brewing Company - ECPv6.15.12.2//NONSGML v1.0//EN
CALSCALE:GREGORIAN
METHOD:PUBLISH
X-ORIGINAL-URL:https://giantjones.com
X-WR-CALDESC:Events for Giant Jones Brewing Company
REFRESH-INTERVAL;VALUE=DURATION:PT1H
X-Robots-Tag:noindex
X-PUBLISHED-TTL:PT1H
BEGIN:VTIMEZONE
TZID:UTC
BEGIN:STANDARD
TZOFFSETFROM:+0000
TZOFFSETTO:+0000
TZNAME:UTC
DTSTART:20220101T000000
END:STANDARD
END:VTIMEZONE
BEGIN:VEVENT
DTSTART;VALUE=DATE:20230907
DTEND;VALUE=DATE:20230908
DTSTAMP:20260422T080256
CREATED:20230831T171536Z
LAST-MODIFIED:20230831T171536Z
UID:4359-1694044800-1694131199@giantjones.com
SUMMARY:CLOSING EARLY 5:30PM
DESCRIPTION:We are closing the tasting room early today for a private event. You can still stop between 4pm-5:30pm to enjoy a Giant Jones beer or grab some bottles to-go. \nWe appreciate your understanding and will resume regular hours tomorrow. \nIf you’d like more information about booking a private event please email: beer@giantjones.com \nCheers!
URL:https://giantjones.com/event/closing-early-530pm/
LOCATION:Giant Jones Brewing Company\, 931 E Main St.\, Madison\, WI\, 53703\, United States
END:VEVENT
END:VCALENDAR