BEGIN:VCALENDAR
VERSION:2.0
PRODID:-//Giant Jones Brewing Company - ECPv6.15.12.2//NONSGML v1.0//EN
CALSCALE:GREGORIAN
METHOD:PUBLISH
X-WR-CALNAME:Giant Jones Brewing Company
X-ORIGINAL-URL:https://giantjones.com
X-WR-CALDESC:Events for Giant Jones Brewing Company
REFRESH-INTERVAL;VALUE=DURATION:PT1H
X-Robots-Tag:noindex
X-PUBLISHED-TTL:PT1H
BEGIN:VTIMEZONE
TZID:UTC
BEGIN:STANDARD
TZOFFSETFROM:+0000
TZOFFSETTO:+0000
TZNAME:UTC
DTSTART:20230101T000000
END:STANDARD
END:VTIMEZONE
BEGIN:VEVENT
DTSTART;TZID=UTC:20240911T160000
DTEND;TZID=UTC:20240911T200000
DTSTAMP:20260421T232204
CREATED:20240906T170750Z
LAST-MODIFIED:20240906T171338Z
UID:5860-1726070400-1726084800@giantjones.com
SUMMARY:Pizza Night w/ORIGIN Breads
DESCRIPTION:Every Wednesday we team up with our neighbors down the hall at ORIGIN Breads for a Pizza Night! ORIGIN makes the pies and we supply the dining area in our tasting room. They have also added assorted baked cookies/brownies & a seasonal salad for you to enjoy as well. You can then eat your dinner and have some beer here. \nPre-Order from ORIGIN’s website\, select a “pick-up” time\, and show up at our tasting room on Wednesday. When the pizzas are ready\, they will be brought to our tasting room so listen for your name when called. \nYou can also order directly from your phone when you get here. \nThere is no reserved seating\, tables are first come first serve so plan accordingly! \nOur tasting room is open 4pm-8pm; pizzas start at 5pm.
URL:https://giantjones.com/event/pizza-night-w-origin-breads-85/
LOCATION:Giant Jones Brewing Company\, 931 E Main St.\, Madison\, WI\, 53703\, United States
END:VEVENT
BEGIN:VEVENT
DTSTART;TZID=UTC:20240913T180000
DTEND;TZID=UTC:20240913T210000
DTSTAMP:20260421T232204
CREATED:20240829T173949Z
LAST-MODIFIED:20240903T172413Z
UID:5845-1726250400-1726261200@giantjones.com
SUMMARY:SIRENA Album Release Party
DESCRIPTION:Come hang out with the crew behind SIRENA\, have some treats and enjoy Giant Jones beer!! \nAn original story conceived by Filipina artist\, Leslie Damaso\, set within new compositions and contemporary arrangements of kundiman songs of love and freedom. Sirena blends a personal story\, family secrets\, a mythic love triangle ending in the beginning of a nation\, the displacement of its people\, and an individual’s search for identity and belonging. This is an act of weaving together pieces to heal what’s beneath our scars; it is a journey back to the sweetness of life. \nhttps://www.mrchairmusic.com/
URL:https://giantjones.com/event/sirena-album-release-party/
LOCATION:Giant Jones Brewing Company\, 931 E Main St.\, Madison\, WI\, 53703\, United States
END:VEVENT
BEGIN:VEVENT
DTSTART;TZID=UTC:20240918T160000
DTEND;TZID=UTC:20240918T200000
DTSTAMP:20260421T232204
CREATED:20240906T170915Z
LAST-MODIFIED:20240906T171358Z
UID:5862-1726675200-1726689600@giantjones.com
SUMMARY:Pizza Night w/ORIGIN Breads
DESCRIPTION:  \nEvery Wednesday we team up with our neighbors down the hall at ORIGIN Breads for a Pizza Night! ORIGIN makes the pies and we supply the dining area in our tasting room. They have also added assorted baked cookies/brownies & a seasonal salad for you to enjoy as well. You can then eat your dinner and have some beer here. \nPre-Order from ORIGIN’s website\, select a “pick-up” time\, and show up at our tasting room on Wednesday. When the pizzas are ready\, they will be brought to our tasting room so listen for your name when called. \nYou can also order directly from your phone when you get here. \nThere is no reserved seating\, tables are first come first serve so plan accordingly! \nOur tasting room is open 4pm-8pm; pizzas start at 5pm.
URL:https://giantjones.com/event/pizza-night-w-origin-breads-86/
LOCATION:Giant Jones Brewing Company\, 931 E Main St.\, Madison\, WI\, 53703\, United States
END:VEVENT
BEGIN:VEVENT
DTSTART;TZID=UTC:20240925T160000
DTEND;TZID=UTC:20240925T200000
DTSTAMP:20260421T232204
CREATED:20240906T171314Z
LAST-MODIFIED:20240906T171314Z
UID:5864-1727280000-1727294400@giantjones.com
SUMMARY:Pizza Night w/ORIGIN Breads
DESCRIPTION:  \nEvery Wednesday we team up with our neighbors down the hall at ORIGIN Breads for a Pizza Night! ORIGIN makes the pies and we supply the dining area in our tasting room. They have also added assorted baked cookies/brownies & a seasonal salad for you to enjoy as well. You can then eat your dinner and have some beer here. \nPre-Order from ORIGIN’s website\, select a “pick-up” time\, and show up at our tasting room on Wednesday. When the pizzas are ready\, they will be brought to our tasting room so listen for your name when called. \nYou can also order directly from your phone when you get here. \nThere is no reserved seating\, tables are first come first serve so plan accordingly! \nOur tasting room is open 4pm-8pm; pizzas start at 5pm.
URL:https://giantjones.com/event/pizza-night-w-origin-breads-87/
LOCATION:Giant Jones Brewing Company\, 931 E Main St.\, Madison\, WI\, 53703\, United States
END:VEVENT
END:VCALENDAR