BEGIN:VCALENDAR
VERSION:2.0
PRODID:-//Giant Jones Brewing Company - ECPv6.15.12.2//NONSGML v1.0//EN
CALSCALE:GREGORIAN
METHOD:PUBLISH
X-WR-CALNAME:Giant Jones Brewing Company
X-ORIGINAL-URL:https://giantjones.com
X-WR-CALDESC:Events for Giant Jones Brewing Company
REFRESH-INTERVAL;VALUE=DURATION:PT1H
X-Robots-Tag:noindex
X-PUBLISHED-TTL:PT1H
BEGIN:VTIMEZONE
TZID:UTC
BEGIN:STANDARD
TZOFFSETFROM:+0000
TZOFFSETTO:+0000
TZNAME:UTC
DTSTART:20230101T000000
END:STANDARD
END:VTIMEZONE
BEGIN:VEVENT
DTSTART;TZID=UTC:20240801T170000
DTEND;TZID=UTC:20240801T190000
DTSTAMP:20260422T050156
CREATED:20240723T175327Z
LAST-MODIFIED:20240723T175327Z
UID:5733-1722531600-1722538800@giantjones.com
SUMMARY:Dane Arts Buy Local Group Show Closing Reception
DESCRIPTION:These amazing 11 featured artists have been on our wall all month long.\nCome celebrate with us\, meet some local artists and BUY LOCAL ART!\nBeer\, wine & sodas will be available for you to purchase. As well as snacks and food. You can also BYOF.\nThis show will be up through August 3rd so don’t miss out!
URL:https://giantjones.com/event/dane-arts-buy-local-group-show-closing-reception/
LOCATION:Giant Jones Brewing Company\, 931 E Main St.\, Madison\, WI\, 53703\, United States
END:VEVENT
BEGIN:VEVENT
DTSTART;TZID=UTC:20240807T170000
DTEND;TZID=UTC:20240807T200000
DTSTAMP:20260422T050156
CREATED:20240719T192308Z
LAST-MODIFIED:20240719T192308Z
UID:5718-1723050000-1723060800@giantjones.com
SUMMARY:Pizza Night w/ORIGIN Breads
DESCRIPTION:Every Wednesday we team up with our neighbors down the hall at ORIGIN Breads for a Pizza Night! ORIGIN makes the pies and we supply the dining area in our tasting room. They have also added assorted baked cookies/brownies & a seasonal salad for you to enjoy as well. You can then eat your dinner and have some beer here. \nPre-Order from ORIGIN’s website\, select a “pick-up” time\, and show up at our tasting room on Wednesday. When the pizzas are ready\, they will be brought to our tasting room so listen for your name when called. \nYou can also order directly from your phone when you get here. \nThere is no reserved seating\, tables are first come first serve so plan accordingly! \nOur tasting room is open 4pm-8pm; pizzas start at 5pm.
URL:https://giantjones.com/event/pizza-night-w-origin-breads-82/
LOCATION:Giant Jones Brewing Company\, 931 E Main St.\, Madison\, WI\, 53703\, United States
END:VEVENT
BEGIN:VEVENT
DTSTART;TZID=UTC:20240809T160000
DTEND;TZID=UTC:20240809T210000
DTSTAMP:20260422T050156
CREATED:20240717T191250Z
LAST-MODIFIED:20240809T204649Z
UID:5700-1723219200-1723237200@giantjones.com
SUMMARY:GJ Great Taste Eve Beer Garden!
DESCRIPTION:  \nIt’s the night before everyone’s favorite beer fest…so we will be here to celebrate with everyone who’s in town. \nJoin us as we tap the latest batch of our award winning Doppelsticke Altbier for you to enjoy. And as always\, we’ll have many more big beers for you to try. Ranging from historical styles\, Belgian styles\, German styles and many more. \nWe will also have our usual wine offerings from American Wine Project & sodas. \nYou can bring your own food OR order from our friends at The Deliciouser (or anywhere else you choose). \nWe’re excited to see new faces from out of towners\, so stop on by!!! \n*Weather permitting\, our outdoor beer garden will be open! \nGiant Jones Beer Lineup: \n\nWitbier Grand Cru (7.3% abv)\nBirra di Pane Forte (7% abv)\nVossaol (7.8% abv)\nBiere de Garde Blonde (7.4% abv)\nDouble IPA (8.6% abv)\nBiere de Garde Ambree (7.3% abv)\nAustralian-Style Sparkling Ale (5.6% abv)\nMaibock (7.7% abv)\nKaves Historical Belgian-Style (10.8% abv)\nRyewine (10.2% abv)\nDark Strong Ale (11% abv)\nDoppelstick Altbier (10% abv)\nDubbel (7.2% abv)\nTripel (9.2% abv)\nKozlak Polish-Style Bock (7.9% abv)\nTropical Stout (8.2% abv)\nGoedt Bier Historical Belgian-Style (8.3% abv)\n\n 
URL:https://giantjones.com/event/gj-great-taste-eve-beer-garden/
LOCATION:Giant Jones Brewing Company\, 931 E Main St.\, Madison\, WI\, 53703\, United States
END:VEVENT
BEGIN:VEVENT
DTSTART;TZID=UTC:20240821T170000
DTEND;TZID=UTC:20240821T200000
DTSTAMP:20260422T050156
CREATED:20240719T192721Z
LAST-MODIFIED:20240719T192721Z
UID:5720-1724259600-1724270400@giantjones.com
SUMMARY:Pizza Night w/ORIGIN Breads
DESCRIPTION:  \nEvery Wednesday we team up with our neighbors down the hall at ORIGIN Breads for a Pizza Night! ORIGIN makes the pies and we supply the dining area in our tasting room. They have also added assorted baked cookies/brownies & a seasonal salad for you to enjoy as well. You can then eat your dinner and have some beer here. \nPre-Order from ORIGIN’s website\, select a “pick-up” time\, and show up at our tasting room on Wednesday. When the pizzas are ready\, they will be brought to our tasting room so listen for your name when called. \nYou can also order directly from your phone when you get here. \nThere is no reserved seating\, tables are first come first serve so plan accordingly! \nOur tasting room is open 4pm-8pm; pizzas start at 5pm.
URL:https://giantjones.com/event/pizza-night-w-origin-breads-83/
LOCATION:Giant Jones Brewing Company\, 931 E Main St.\, Madison\, WI\, 53703\, United States
END:VEVENT
BEGIN:VEVENT
DTSTART;TZID=UTC:20240828T170000
DTEND;TZID=UTC:20240828T200000
DTSTAMP:20260422T050156
CREATED:20240719T193021Z
LAST-MODIFIED:20240719T193021Z
UID:5722-1724864400-1724875200@giantjones.com
SUMMARY:Pizza Night w/ORIGIN Breads
DESCRIPTION:Every Wednesday we team up with our neighbors down the hall at ORIGIN Breads for a Pizza Night! ORIGIN makes the pies and we supply the dining area in our tasting room. They have also added assorted baked cookies/brownies & a seasonal salad for you to enjoy as well. You can then eat your dinner and have some beer here. \nPre-Order from ORIGIN’s website\, select a “pick-up” time\, and show up at our tasting room on Wednesday. When the pizzas are ready\, they will be brought to our tasting room so listen for your name when called. \nYou can also order directly from your phone when you get here. \nThere is no reserved seating\, tables are first come first serve so plan accordingly! \nOur tasting room is open 4pm-8pm; pizzas start at 5pm.
URL:https://giantjones.com/event/pizza-night-w-origin-breads-84/
LOCATION:Giant Jones Brewing Company\, 931 E Main St.\, Madison\, WI\, 53703\, United States
END:VEVENT
BEGIN:VEVENT
DTSTART;TZID=UTC:20240829T190000
DTEND;TZID=UTC:20240829T200000
DTSTAMP:20260422T050156
CREATED:20240809T211550Z
LAST-MODIFIED:20240809T211909Z
UID:5794-1724958000-1724961600@giantjones.com
SUMMARY:Big Beers\, Bangin' Books - Forbidden Romance
DESCRIPTION:Do you love reading romance books as much as we love making big beers? If so join us for our monthly romance book discussion. Led by Amy our friend and romance reader extraordinaire! Each month a romance trope is chosen. Read a book OR many books that fit that romance trope\, then enjoy some beer or wine and chat with the group about your book. \nThis month’s topic: Forbidden love romances\, in which people who absolutely shouldn’t fall for each other absolutely do. \nReading suggestions: \nForbidden by Beverly Jenkins \nHate to Want You by Alisha Rai \nHeated Rivalry by Rachel Reid \nPriest by Sierra Simone \nA Seditious Affair by K.J. Charles \nSlave to Sensation by Nalini Singh \nStepbrother Dearest by Penelope Ward \nWheels Up by Annabeth Albert
URL:https://giantjones.com/event/big-beers-bangin-books-forbidden-romance/
LOCATION:Giant Jones Brewing Company\, 931 E Main St.\, Madison\, WI\, 53703\, United States
END:VEVENT
END:VCALENDAR