BEGIN:VCALENDAR
VERSION:2.0
PRODID:-//Giant Jones Brewing Company - ECPv6.15.12.2//NONSGML v1.0//EN
CALSCALE:GREGORIAN
METHOD:PUBLISH
X-ORIGINAL-URL:https://giantjones.com
X-WR-CALDESC:Events for Giant Jones Brewing Company
REFRESH-INTERVAL;VALUE=DURATION:PT1H
X-Robots-Tag:noindex
X-PUBLISHED-TTL:PT1H
BEGIN:VTIMEZONE
TZID:UTC
BEGIN:STANDARD
TZOFFSETFROM:+0000
TZOFFSETTO:+0000
TZNAME:UTC
DTSTART:20230101T000000
END:STANDARD
END:VTIMEZONE
BEGIN:VEVENT
DTSTART;TZID=UTC:20240613T160000
DTEND;TZID=UTC:20240613T200000
DTSTAMP:20260421T020627
CREATED:20240603T194115Z
LAST-MODIFIED:20240603T194115Z
UID:5503-1718294400-1718308800@giantjones.com
SUMMARY:Big Beers & Cute Dogs
DESCRIPTION:Come meet adoptable dogs at Giant Jones! Have some beer\, snuggle some dogs & enjoy some awesome company. The amazing people at Wisconsin Bound Dog Rescue will be here to answer any questions you may have about the cute pups. \nDoors open at 4pm; Dogs at 5pm!!!
URL:https://giantjones.com/event/big-beers-cute-dogs/
LOCATION:Giant Jones Brewing Company\, 931 E Main St.\, Madison\, WI\, 53703\, United States
END:VEVENT
END:VCALENDAR