BEGIN:VCALENDAR
VERSION:2.0
PRODID:-//Giant Jones Brewing Company - ECPv6.15.12.2//NONSGML v1.0//EN
CALSCALE:GREGORIAN
METHOD:PUBLISH
X-ORIGINAL-URL:https://giantjones.com
X-WR-CALDESC:Events for Giant Jones Brewing Company
REFRESH-INTERVAL;VALUE=DURATION:PT1H
X-Robots-Tag:noindex
X-PUBLISHED-TTL:PT1H
BEGIN:VTIMEZONE
TZID:UTC
BEGIN:STANDARD
TZOFFSETFROM:+0000
TZOFFSETTO:+0000
TZNAME:UTC
DTSTART:20240101T000000
END:STANDARD
END:VTIMEZONE
BEGIN:VEVENT
DTSTART;TZID=UTC:20250604T160000
DTEND;TZID=UTC:20250604T200000
DTSTAMP:20260421T131933
CREATED:20250603T172837Z
LAST-MODIFIED:20250603T173057Z
UID:6828-1749052800-1749067200@giantjones.com
SUMMARY:Bags & Beer at Giant Jones
DESCRIPTION:Every Wednesday this summer\, weather permitting\, we will be setting up 2 regulation cornhole courts for you to play on\, while you drink delicious Giant J0nes beer! \nThis is for anyone & everyone who wants to play a casual fun game of bags. \nSign-up for a time slot when you arrive! \nFood from The Deliciouser will be available for you to purchase as well. \nAND the last Wednesday of each month we will hold a Cornhole Tournament!
URL:https://giantjones.com/event/beer-bags-at-giant-jones/
LOCATION:Giant Jones Brewing Company\, 931 E Main St.\, Madison\, WI\, 53703\, United States
END:VEVENT
BEGIN:VEVENT
DTSTART;TZID=UTC:20250614T140000
DTEND;TZID=UTC:20250614T210000
DTSTAMP:20260421T131933
CREATED:20250430T191552Z
LAST-MODIFIED:20250602T172916Z
UID:6722-1749909600-1749934800@giantjones.com
SUMMARY:Giant Jones 7th Anniversary Celebration
DESCRIPTION:Giant Jones Brewing has been making big flavorful brews for seven years so we want to celebrate with all of you who made this possible. \nWe’re opening early for our celebration AND Jessica has made a special Anniversary Beer just for this occasion. Jessica is also making one of her delicious cakes for us to enjoy…while it lasts… \nWe will be offering guided flights with Jessica\, Brewer/Owner\, at 3pm OR 7pm She will be selecting the flights and then discussing each beer as you enjoy & ask questions. \nBesides our big beers\, we also have wine from American Wine Project\, gluten free beer from AltBrew\, & several N/A options! \nAs always you can bring in your own food & snacks; we will have some light snacks from Bunky’s available and starting at 5pm you can order food from The Deliciouser!
URL:https://giantjones.com/event/giant-jones-7th-anniversary-celebration/
LOCATION:Giant Jones Brewing Company\, 931 E Main St.\, Madison\, WI\, 53703\, United States
END:VEVENT
BEGIN:VEVENT
DTSTART;TZID=UTC:20250626T190000
DTEND;TZID=UTC:20250626T200000
DTSTAMP:20260421T131933
CREATED:20250602T182359Z
LAST-MODIFIED:20250602T182359Z
UID:6797-1750964400-1750968000@giantjones.com
SUMMARY:Big Beers\, Bangin' Books - Wilderness/Outdoor Romance
DESCRIPTION:  \nJoin us for another fun book discussion! Each month Amy & Giant Jones owner Erika Jones\, lead a romance book discussion revolving around a standard romance trope. Picked by the group the month before\, books are selected by each reader that features the trope. Then we get together and chat about the books we’ve read. \nThis month’s romance trope is “Wilderness/Outdoors” in which love is wild\, or at least found there… \nSuggested Readings: \nAll Rhodes Lead Here by Mariana Zapata \nBeyond the Sea by Keira Andrews \nHappiness for Beginners by Katherine Center \nHappy Trail by Daisy Prescott \nA Land So Wild by Elyssa Warkentin \nSomething Wild & Wonderful by Anita Kelly \nThat Summer Feeling by Bridget Morrissey \nWhiteout by Adirana Anders \nWild by Adrienne Wilder \nWild Rain by Christine Feehan
URL:https://giantjones.com/event/big-beers-bangin-books-wilderness-outdoor-romance/
LOCATION:Giant Jones Brewing Company\, 931 E Main St.\, Madison\, WI\, 53703\, United States
END:VEVENT
END:VCALENDAR