BEGIN:VCALENDAR
VERSION:2.0
PRODID:-//Giant Jones Brewing Company - ECPv6.15.12.2//NONSGML v1.0//EN
CALSCALE:GREGORIAN
METHOD:PUBLISH
X-ORIGINAL-URL:https://giantjones.com
X-WR-CALDESC:Events for Giant Jones Brewing Company
REFRESH-INTERVAL;VALUE=DURATION:PT1H
X-Robots-Tag:noindex
X-PUBLISHED-TTL:PT1H
BEGIN:VTIMEZONE
TZID:UTC
BEGIN:STANDARD
TZOFFSETFROM:+0000
TZOFFSETTO:+0000
TZNAME:UTC
DTSTART:20240101T000000
END:STANDARD
END:VTIMEZONE
BEGIN:VEVENT
DTSTART;TZID=UTC:20250514T160000
DTEND;TZID=UTC:20250514T200000
DTSTAMP:20260420T054753
CREATED:20250510T163839Z
LAST-MODIFIED:20250513T195730Z
UID:6744-1747238400-1747252800@giantjones.com
SUMMARY:Beer Release Party!
DESCRIPTION:It’s American Craft Beer Week & if you didn’t know\, we make craft beer. We’re kicking off the week with a beer release party!\nJessica has brewed our first ever West Coast IPA!Brand new! This IPA features a more intense hop character with some dank and piny notes typical of the West Coast styles!\n\nDue to unforeseen circumstances we won’t be able to host the Pizza Brutta Mobile oven\, which was previously advertised. Sorry for the inconvenience.
URL:https://giantjones.com/event/beer-release-pizza-party-with-pizza-brutta/
LOCATION:Giant Jones Brewing Company\, 931 E Main St.\, Madison\, WI\, 53703\, United States
END:VEVENT
END:VCALENDAR