BEGIN:VCALENDAR
VERSION:2.0
PRODID:-//Giant Jones Brewing Company - ECPv6.15.12.2//NONSGML v1.0//EN
CALSCALE:GREGORIAN
METHOD:PUBLISH
X-ORIGINAL-URL:https://giantjones.com
X-WR-CALDESC:Events for Giant Jones Brewing Company
REFRESH-INTERVAL;VALUE=DURATION:PT1H
X-Robots-Tag:noindex
X-PUBLISHED-TTL:PT1H
BEGIN:VTIMEZONE
TZID:UTC
BEGIN:STANDARD
TZOFFSETFROM:+0000
TZOFFSETTO:+0000
TZNAME:UTC
DTSTART:20220101T000000
END:STANDARD
END:VTIMEZONE
BEGIN:VEVENT
DTSTART;TZID=UTC:20230422T120000
DTEND;TZID=UTC:20230422T160000
DTSTAMP:20260422T013918
CREATED:20230418T154027Z
LAST-MODIFIED:20230418T154027Z
UID:3811-1682164800-1682179200@giantjones.com
SUMMARY:Giant Jones Pop-Up at Awildan
DESCRIPTION:Awildan Distilling will release our first aged spirit– a barreled version of their Genever. The release event is scheduled for April 22nd\, 2023 and will also feature a Canadian-Style Spruce beer brewed in collaboration with us here at Giant Jones!\n\nOur Giant Jones Pop-up will be at Awildan from 12pm-4pm. There will be music by folk musician Andreas TransØ (4pm-6pm)\, and food from Melted Craft Grilled Cheese food truck.\n\nFrom Awildan’s Website:\nWhat is a barreled Genever you ask? We put our Genever in an ex-bourbon cask for over 10 months. The result is a truly unique spirit where the single malt whiskey base spirit shines through\, with additional sweetness from the white oak barrel. Juniper\, floral notes\, and orange citrus sit atop\, lending complexity that continues long into the finish. Needless to say\, this spirit pushes the boundaries of what a botanical spirit and whiskey hybrid can be.\nIf you’ve stopped by the distillery\, you may have heard me mention single malt whiskey a few times. My first serious exploration of the world of distilled spirits centered on Scottish single malt whisky\, and my passion for it prompted my pursuit of opening my own distillery. One of the hardest parts about opening a distillery focused on whiskey production is waiting for the whiskey to mature. At Awildan\, it’s 3-5 years minimum depending on the cooperage. With releases like this Barreled Genever\, and the Progress Report whiskey being released in November 2023\, I’m excited to give people a preview of what Awildan Distilling is all about.
URL:https://giantjones.com/event/giant-jones-pop-up-at-awildan/
LOCATION:Awildan Distilling\, 5353 Maly Rd STE D\, Sun Prairie\, WI\, 53590\, United States
END:VEVENT
END:VCALENDAR