BEGIN:VCALENDAR
VERSION:2.0
PRODID:-//Giant Jones Brewing Company - ECPv6.15.12.2//NONSGML v1.0//EN
CALSCALE:GREGORIAN
METHOD:PUBLISH
X-WR-CALNAME:Giant Jones Brewing Company
X-ORIGINAL-URL:https://giantjones.com
X-WR-CALDESC:Events for Giant Jones Brewing Company
REFRESH-INTERVAL;VALUE=DURATION:PT1H
X-Robots-Tag:noindex
X-PUBLISHED-TTL:PT1H
BEGIN:VTIMEZONE
TZID:UTC
BEGIN:STANDARD
TZOFFSETFROM:+0000
TZOFFSETTO:+0000
TZNAME:UTC
DTSTART:20240101T000000
END:STANDARD
END:VTIMEZONE
BEGIN:VEVENT
DTSTART;VALUE=DATE:20250101
DTEND;VALUE=DATE:20250102
DTSTAMP:20260422T021846
CREATED:20241112T193440Z
LAST-MODIFIED:20241112T193440Z
UID:6118-1735689600-1735775999@giantjones.com
SUMMARY:*CLOSED - NO PIZZA*
DESCRIPTION:We’re closed today. We hope everyone has a wonder day! We’ll be back tomorrow\, 1/2!
URL:https://giantjones.com/event/closed-no-pizza-2/
END:VEVENT
END:VCALENDAR