BEGIN:VCALENDAR
VERSION:2.0
PRODID:-//Giant Jones Brewing Company - ECPv6.15.12.2//NONSGML v1.0//EN
CALSCALE:GREGORIAN
METHOD:PUBLISH
X-ORIGINAL-URL:https://giantjones.com
X-WR-CALDESC:Events for Giant Jones Brewing Company
REFRESH-INTERVAL;VALUE=DURATION:PT1H
X-Robots-Tag:noindex
X-PUBLISHED-TTL:PT1H
BEGIN:VTIMEZONE
TZID:UTC
BEGIN:STANDARD
TZOFFSETFROM:+0000
TZOFFSETTO:+0000
TZNAME:UTC
DTSTART:20240101T000000
END:STANDARD
END:VTIMEZONE
BEGIN:VEVENT
DTSTART;TZID=UTC:20250313T160000
DTEND;TZID=UTC:20250313T200000
DTSTAMP:20260421T213253
CREATED:20250307T215831Z
LAST-MODIFIED:20250313T192730Z
UID:6492-1741881600-1741896000@giantjones.com
SUMMARY:*CANCELED* Cake Night at Giant Jones
DESCRIPTION:  \nWe all know Jessica Jones make amazing beer\, but did you know she also makes delicious cakes? Well you can come see for yourself\, because every Thursday in March she’s making a one of a kind cake that we’ll be selling to you by the slice. \n$7 will get you a tasty piece of cake & we’ll even have a suggested beer pairing! \n 
URL:https://giantjones.com/event/cake-night-at-giant-jones/
LOCATION:Giant Jones Brewing Company\, 931 E Main St.\, Madison\, WI\, 53703\, United States
END:VEVENT
BEGIN:VEVENT
DTSTART;TZID=UTC:20250320T160000
DTEND;TZID=UTC:20250320T200000
DTSTAMP:20260421T213253
CREATED:20250307T220117Z
LAST-MODIFIED:20250307T220117Z
UID:6495-1742486400-1742500800@giantjones.com
SUMMARY:Cake Night at Giant Jones
DESCRIPTION:  \nWe all know Jessica Jones make amazing beer\, but did you know she also makes delicious cakes? Well you can come see for yourself\, because every Thursday in March she’s making a one of a kind cake that we’ll be selling to you by the slice. \n$7 will get you a tasty piece of cake & we’ll even have a suggested beer pairing!
URL:https://giantjones.com/event/cake-night-at-giant-jones-2/
LOCATION:Giant Jones Brewing Company\, 931 E Main St.\, Madison\, WI\, 53703\, United States
END:VEVENT
BEGIN:VEVENT
DTSTART;TZID=UTC:20250327T160000
DTEND;TZID=UTC:20250327T200000
DTSTAMP:20260421T213253
CREATED:20250307T220444Z
LAST-MODIFIED:20250307T220444Z
UID:6497-1743091200-1743105600@giantjones.com
SUMMARY:Cake Night at Giant Jones
DESCRIPTION:We all know Jessica Jones make amazing beer\, but did you know she also makes delicious cakes? Well you can come see for yourself\, because every Thursday in March she’s making a one of a kind cake that we’ll be selling to you by the slice. \n$7 will get you a tasty piece of cake & we’ll even have a suggested beer pairing!
URL:https://giantjones.com/event/cake-night-at-giant-jones-3/
LOCATION:Giant Jones Brewing Company\, 931 E Main St.\, Madison\, WI\, 53703\, United States
END:VEVENT
END:VCALENDAR