BEGIN:VCALENDAR
VERSION:2.0
PRODID:-//Giant Jones Brewing Company - ECPv6.15.12.2//NONSGML v1.0//EN
CALSCALE:GREGORIAN
METHOD:PUBLISH
X-ORIGINAL-URL:https://giantjones.com
X-WR-CALDESC:Events for Giant Jones Brewing Company
REFRESH-INTERVAL;VALUE=DURATION:PT1H
X-Robots-Tag:noindex
X-PUBLISHED-TTL:PT1H
BEGIN:VTIMEZONE
TZID:UTC
BEGIN:STANDARD
TZOFFSETFROM:+0000
TZOFFSETTO:+0000
TZNAME:UTC
DTSTART:20230101T000000
END:STANDARD
END:VTIMEZONE
BEGIN:VEVENT
DTSTART;TZID=UTC:20240627T190000
DTEND;TZID=UTC:20240627T200000
DTSTAMP:20260422T072834
CREATED:20240603T195805Z
LAST-MODIFIED:20240603T195805Z
UID:5509-1719514800-1719518400@giantjones.com
SUMMARY:Big Beers\, Bangin' Books - Single Dad/Nanny Romance
DESCRIPTION:We love our monthly romance book discussion group! \nEach month we pick a romance trope\, then share books featuring said trope over some tasty beers. Join romance reader extraordinaire Amy as they lead the discussion. \nThis month’s topic: Single Dad/Nanny romance in which a single dad and a caregiver fall in love. \nSuggested readings:\nBombshell by CD Reiss\nThe Highlander by Kerrigan Byrne\nIt Takes Two to Tumble by Cat Sebastian\nMake a Wish by Helena Hunting\nRafe by Rebekah Weatherspoon\nRules for a Proper Governess by Jennifer Ashley\nTo the Moon and Back by NR Walker\nUntouchable by Talia Hibbert
URL:https://giantjones.com/event/big-beers-bangin-books-single-dad-nanny-romance/
LOCATION:Giant Jones Brewing Company\, 931 E Main St.\, Madison\, WI\, 53703\, United States
END:VEVENT
END:VCALENDAR