BEGIN:VCALENDAR
VERSION:2.0
PRODID:-//Giant Jones Brewing Company - ECPv6.15.12.2//NONSGML v1.0//EN
CALSCALE:GREGORIAN
METHOD:PUBLISH
X-ORIGINAL-URL:https://giantjones.com
X-WR-CALDESC:Events for Giant Jones Brewing Company
REFRESH-INTERVAL;VALUE=DURATION:PT1H
X-Robots-Tag:noindex
X-PUBLISHED-TTL:PT1H
BEGIN:VTIMEZONE
TZID:UTC
BEGIN:STANDARD
TZOFFSETFROM:+0000
TZOFFSETTO:+0000
TZNAME:UTC
DTSTART:20230101T000000
END:STANDARD
END:VTIMEZONE
BEGIN:VEVENT
DTSTART;TZID=UTC:20240118T160000
DTEND;TZID=UTC:20240118T200000
DTSTAMP:20260422T110556
CREATED:20231227T233031Z
LAST-MODIFIED:20240115T195325Z
UID:4856-1705593600-1705608000@giantjones.com
SUMMARY:Donut & Beer Flight Night!
DESCRIPTION:Thursdays in January just got tastier! \nJoin us on Thursdays for a Donut & Beer Flight. \nEach week we’ll pair 3 different Giant Jones Beers with 3 different Level5 mini-donuts. The flights will be available all evening until they run out!  \nPairing details: \nCoconut Macaroon w/ Wheatwine\nVanilla w/ Dark Weizenbock\nCherry Almond w/ Scotch Ale
URL:https://giantjones.com/event/donut-beer-flight/
LOCATION:Giant Jones Brewing Company\, 931 E Main St.\, Madison\, WI\, 53703\, United States
END:VEVENT
END:VCALENDAR