BEGIN:VCALENDAR
VERSION:2.0
PRODID:-//Giant Jones Brewing Company - ECPv6.15.12.2//NONSGML v1.0//EN
CALSCALE:GREGORIAN
METHOD:PUBLISH
X-WR-CALNAME:Giant Jones Brewing Company
X-ORIGINAL-URL:https://giantjones.com
X-WR-CALDESC:Events for Giant Jones Brewing Company
REFRESH-INTERVAL;VALUE=DURATION:PT1H
X-Robots-Tag:noindex
X-PUBLISHED-TTL:PT1H
BEGIN:VTIMEZONE
TZID:UTC
BEGIN:STANDARD
TZOFFSETFROM:+0000
TZOFFSETTO:+0000
TZNAME:UTC
DTSTART:20240101T000000
END:STANDARD
END:VTIMEZONE
BEGIN:VEVENT
DTSTART;TZID=UTC:20250504T080000
DTEND;TZID=UTC:20250504T130000
DTSTAMP:20260421T002030
CREATED:20250319T221805Z
LAST-MODIFIED:20250425T195757Z
UID:6541-1746345600-1746363600@giantjones.com
SUMMARY:Sunday Jazz Brunch & Great Taste Ticket Sales at Giant Jones
DESCRIPTION:We are open on a Sunday for this year’s Great Taste of the Midwest Ticket Sales\, so why not make it a party for everyone?\n\nOur tasting room will be open to the public from 8am-1pm for beer purchasing to drink here or bottles to-go.\n\nAlso starting at 8am\, our friends from Ste Martaen Catering will be here for a Vegan brunch pop-up\, and they’ll be joined by Cinnaholic serving gourmet cinnamon rolls!\n\nThen\, stick around and enjoy some jazz from local musicians\, Jason Kutz & Ben Ferris of Mr. Chair at 10am.\n\nFor those waiting to buy GTMW tickets at 12pm\, you will be able to enjoy the fun too!\n\nGTMW Ticket Line starts at 7am\nWrist banding starts at 8am\nTicket Sales start at 12pm
URL:https://giantjones.com/event/sunday-jazz-brunch-at-giant-jones/
LOCATION:Giant Jones Brewing Company\, 931 E Main St.\, Madison\, WI\, 53703\, United States
END:VEVENT
END:VCALENDAR