BEGIN:VCALENDAR
VERSION:2.0
PRODID:-//Giant Jones Brewing Company - ECPv6.15.12.2//NONSGML v1.0//EN
CALSCALE:GREGORIAN
METHOD:PUBLISH
X-WR-CALNAME:Giant Jones Brewing Company
X-ORIGINAL-URL:https://giantjones.com
X-WR-CALDESC:Events for Giant Jones Brewing Company
REFRESH-INTERVAL;VALUE=DURATION:PT1H
X-Robots-Tag:noindex
X-PUBLISHED-TTL:PT1H
BEGIN:VTIMEZONE
TZID:UTC
BEGIN:STANDARD
TZOFFSETFROM:+0000
TZOFFSETTO:+0000
TZNAME:UTC
DTSTART:20240101T000000
END:STANDARD
END:VTIMEZONE
BEGIN:VEVENT
DTSTART;TZID=UTC:20250926T160000
DTEND;TZID=UTC:20250926T210000
DTSTAMP:20260421T041747
CREATED:20250903T203234Z
LAST-MODIFIED:20250903T222230Z
UID:7068-1758902400-1758920400@giantjones.com
SUMMARY:Jessica's BA Release Birthday Bash!!
DESCRIPTION:  \nHappy Birthday to our very own Jessica Jones! And to celebrate her big day she has decided to bring in a big BARREL-AGED beer! Our Ryewine has been aging gracefully (like Jessica) in State Line Apple Brandy barrels for over 11 months and is ready for human consumption. \nAnd since it’s a birthday bash\, we will have Apple Cakes from ORIGIN Breads for you all too! \nWe will also have State Line’s Apple Brandy available\, and all of our other beers & American Project wines.
URL:https://giantjones.com/event/jessicas-ba-release-birthday-bash/
LOCATION:Giant Jones Brewing Company\, 931 E Main St.\, Madison\, WI\, 53703\, United States
END:VEVENT
END:VCALENDAR