BEGIN:VCALENDAR
VERSION:2.0
PRODID:-//Giant Jones Brewing Company - ECPv6.15.12.2//NONSGML v1.0//EN
CALSCALE:GREGORIAN
METHOD:PUBLISH
X-WR-CALNAME:Giant Jones Brewing Company
X-ORIGINAL-URL:https://giantjones.com
X-WR-CALDESC:Events for Giant Jones Brewing Company
REFRESH-INTERVAL;VALUE=DURATION:PT1H
X-Robots-Tag:noindex
X-PUBLISHED-TTL:PT1H
BEGIN:VTIMEZONE
TZID:UTC
BEGIN:STANDARD
TZOFFSETFROM:+0000
TZOFFSETTO:+0000
TZNAME:UTC
DTSTART:20220101T000000
END:STANDARD
END:VTIMEZONE
BEGIN:VEVENT
DTSTART;TZID=UTC:20231215T180000
DTEND;TZID=UTC:20231215T200000
DTSTAMP:20260422T022251
CREATED:20231212T212158Z
LAST-MODIFIED:20231212T214705Z
UID:4806-1702663200-1702670400@giantjones.com
SUMMARY:UW Printmaking Student Showcase
DESCRIPTION:  \nWe always enjoy the UW-Printmaking students work year after year. Join us as we kick off the latest works from these talented students. The artists will be making the rounds\, so come meet them & have a beer or two. And if you see a piece that you like\, buy it! \nTasting room is open 4pm-9pm; Opening event is 6pm-8pm.
URL:https://giantjones.com/event/uw-printmaking-student-showcase/
LOCATION:Giant Jones Brewing Company\, 931 E Main St.\, Madison\, WI\, 53703\, United States
END:VEVENT
END:VCALENDAR